BEGIN:VCALENDAR
VERSION:2.0
PRODID:-//ChamberMaster//Event Calendar 2.0//EN
METHOD:PUBLISH
X-PUBLISHED-TTL:P3D
REFRESH-INTERVAL:P3D
CALSCALE:GREGORIAN
BEGIN:VEVENT
DTSTART:20160824T220000Z
DTEND:20160825T000000Z
X-MICROSOFT-CDO-ALLDAYEVENT:FALSE
SUMMARY:Social Media 201
DESCRIPTION:This course is designed for entrepreneurs and business owners who are proficient with social media. Participants will gain a better understanding of the importance of integrating social media into their marketing strategy. An overview of social media platforms in addition to Facebook and Twitter and useful online tools will be presented as well. Speaker(s): Leandra Williams\, Stingray Advisory Group Co-Sponsor(s): Grand Rapids Public Library No cost. To register\, please go to https://clients.sbdcmichigan.org/workshop.aspx?ekey=70360088 or call our office at 616-331-7370.
X-ALT-DESC;FMTTYPE=text/html:This course is designed for entrepreneurs and business owners who are proficient with social media. Participants will gain a better understanding of the importance of integrating social media into their marketing strategy. An overview of social media platforms in addition to Facebook and Twitter and useful online tools will be presented as well. Speaker(s): Leandra Williams\, Stingray Advisory Group Co-Sponsor(s): Grand Rapids Public Library No cost. To register\, please go to https://clients.sbdcmichigan.org/workshop.aspx?ekey=70360088 or call our office at 616-331-7370.
LOCATION:Grand Rapids Public Library 111 Library Street NE Grand Rapids\, MI 49503
UID:e.2018.455
SEQUENCE:3
DTSTAMP:20260425T235754Z
URL:https://members.westmihcc.org/events/details/social-media-201-08-24-2016-455
END:VEVENT

END:VCALENDAR
