BEGIN:VCALENDAR
VERSION:2.0
PRODID:-//ChamberMaster//Event Calendar 2.0//EN
METHOD:PUBLISH
X-PUBLISHED-TTL:P3D
REFRESH-INTERVAL:P3D
CALSCALE:GREGORIAN
BEGIN:VEVENT
DTSTART:20171129T200000Z
DTEND:20171129T220000Z
X-MICROSOFT-CDO-ALLDAYEVENT:FALSE
SUMMARY:Social Media 201
DESCRIPTION:This course is designed for entrepreneurs and business owners who are proficient with social media. Participants will gain a better understanding of the importance of integrating social media into their marketing strategy. An overview of social media platforms in addition to Facebook and Twitter and useful online tools will be presented as well.
X-ALT-DESC;FMTTYPE=text/html:This course is designed for entrepreneurs and business owners who are proficient with social media. Participants will gain a better understanding of the importance of integrating social media into their marketing strategy. An overview of social media platforms in addition to Facebook and Twitter and useful online tools will be presented as well.
LOCATION:GVSU Bicycle Factory 201 Front Ave SW Grand Rapids\, MI 49504
UID:e.2018.684
SEQUENCE:3
DTSTAMP:20260423T051537Z
URL:https://members.westmihcc.org/events/details/social-media-201-11-29-2017-684
END:VEVENT

END:VCALENDAR
