BEGIN:VCALENDAR
VERSION:2.0
PRODID:-//ChamberMaster//Event Calendar 2.0//EN
METHOD:PUBLISH
X-PUBLISHED-TTL:P3D
REFRESH-INTERVAL:P3D
CALSCALE:GREGORIAN
BEGIN:VEVENT
DTSTART:20171030T210000Z
DTEND:20171030T230000Z
X-MICROSOFT-CDO-ALLDAYEVENT:FALSE
SUMMARY:Social Media 201
DESCRIPTION:This course is designed for entrepreneurs and business owners who are proficient with social media. Participants will gain a better understanding of the importance of integrating social media into their marketing strategy. An overview of social media platforms in addition to Facebook and Twitter and useful online tools will be presented as well.
X-ALT-DESC;FMTTYPE=text/html:This course is designed for entrepreneurs and business owners who are proficient with social media. Participants will gain a better understanding of the importance of integrating social media into their marketing strategy. An overview of social media platforms in addition to Facebook and Twitter and useful online tools will be presented as well.
LOCATION:Walker\, Fluke\, and Sheldon 1971 S State Rd. Ionia\, MI 48846
UID:e.2018.672
SEQUENCE:3
DTSTAMP:20260423T051228Z
URL:https://members.westmihcc.org/events/details/social-media-201-672
END:VEVENT

END:VCALENDAR
