BEGIN:VCALENDAR
VERSION:2.0
PRODID:-//ChamberMaster//Event Calendar 2.0//EN
METHOD:PUBLISH
X-PUBLISHED-TTL:P3D
REFRESH-INTERVAL:P3D
CALSCALE:GREGORIAN
BEGIN:VEVENT
DTSTART:20190506T180000Z
DTEND:20190506T210000Z
X-MICROSOFT-CDO-ALLDAYEVENT:FALSE
SUMMARY:Social Media Marketing Workshop from Facebook
DESCRIPTION:GROW is thrilled to partner with Grand Circus and Facebook to offer this 3-week Social Media Marketing Workshop. This workshop is free for everyone and open to the public. If you're an entrepreneur\, young\, working or seasoned professional\, college student or just curious about digital marketing\, Facebook and Instagram\; come join us!
X-ALT-DESC;FMTTYPE=text/html:GROW is thrilled to partner with Grand Circus and Facebook to offer this 3-week Social Media Marketing Workshop. This workshop is free for everyone and open to the public. If you&#39\;re an entrepreneur\, young\, working or seasoned professional\, college student or just curious about digital marketing\, Facebook and Instagram\; come join us!
LOCATION:GROW
UID:e.2018.1175
SEQUENCE:3
DTSTAMP:20260420T033230Z
URL:https://members.westmihcc.org/events/details/social-media-marketing-workshop-from-facebook-05-06-2019-1175
END:VEVENT

END:VCALENDAR
