BEGIN:VCALENDAR
VERSION:2.0
PRODID:-//ChamberMaster//Event Calendar 2.0//EN
METHOD:PUBLISH
X-PUBLISHED-TTL:P3D
REFRESH-INTERVAL:P3D
CALSCALE:GREGORIAN
BEGIN:VEVENT
DTSTART:20240812T220000Z
DTEND:20240813T000000Z
X-MICROSOFT-CDO-ALLDAYEVENT:FALSE
SUMMARY:Soup 'N Salad for the Soul Auditions
DESCRIPTION:A new BIPOC Dinner Theatre with a purpose. Come out and help by using your talents to support those expirencing homelessness in our community. A portion of event proceeds will be donated to support the housing and advocacy efforts of MVillage. Audition form and Character descriptions https://rc1vpr7y.forms.app/audition-form Event Link https://facebook.com/events/s/soup-n-salad-for-the-soul-audi/497654512914965/ We hope to see you there!
X-ALT-DESC;FMTTYPE=text/html:A new BIPOC Dinner Theatre with a purpose. Come out and help by using your talents to support those expirencing homelessness in our community. A portion of event proceeds will be donated to support the housing and advocacy efforts of MVillage. Audition form and Character descriptions https://rc1vpr7y.forms.app/audition-form Event Link https://facebook.com/events/s/soup-n-salad-for-the-soul-audi/497654512914965/ We hope to see you there!
LOCATION:4669 South Division Ave. Wyoming\, MI 49548
UID:e.2018.3072
SEQUENCE:3
DTSTAMP:20260419T131727Z
URL:https://members.westmihcc.org/events/details/soup-n-salad-for-the-soul-auditions-3072
END:VEVENT

END:VCALENDAR
