BEGIN:VCALENDAR
VERSION:2.0
PRODID:-//ChamberMaster//Event Calendar 2.0//EN
METHOD:PUBLISH
X-PUBLISHED-TTL:P3D
REFRESH-INTERVAL:P3D
CALSCALE:GREGORIAN
BEGIN:VEVENT
DTSTART:20191030T220000Z
DTEND:20191031T000000Z
X-MICROSOFT-CDO-ALLDAYEVENT:FALSE
SUMMARY:Sources of Funding
DESCRIPTION:This workshop is designed for individuals who are seeking financing to start or grow their small business. Delivered in a workshop format\, this session helps entrepreneurs understand the different sources of funding available\, the requirements to obtain financing\, credit scores and myths/facts about grants. To register\, click on this link: https://clients.sbdcmichigan.org/workshop.aspx?ekey=70390180. No cost.
X-ALT-DESC;FMTTYPE=text/html:This workshop is designed for individuals who are seeking financing to start or grow their small business. Delivered in a workshop format\, this session helps entrepreneurs understand the different sources of funding available\, the requirements to obtain financing\, credit scores and myths/facts about grants. To register\, click on this link: https://clients.sbdcmichigan.org/workshop.aspx?ekey=70390180. No cost.
LOCATION:Montcalm Community College Stanley and Blanche Ash Technology and Learning Center 1325 Yellow Jacket Drive Greenville\, MI 48838
UID:e.2018.1324
SEQUENCE:3
DTSTAMP:20260419T212415Z
URL:https://members.westmihcc.org/events/details/sources-of-funding-10-30-2019-1324
END:VEVENT

END:VCALENDAR
