BEGIN:VCALENDAR
VERSION:2.0
PRODID:-//ChamberMaster//Event Calendar 2.0//EN
METHOD:PUBLISH
X-PUBLISHED-TTL:P3D
REFRESH-INTERVAL:P3D
CALSCALE:GREGORIAN
BEGIN:VEVENT
DTSTART:20190213T230000Z
DTEND:20190214T010000Z
X-MICROSOFT-CDO-ALLDAYEVENT:FALSE
SUMMARY:Sources of Funding
DESCRIPTION:This workshop is designed for individuals who are seeking financing\, to start or grow their small business. Delivered in a workshop format\, this session helps entrepreneurs understand the different sources of funding available\, the requirements to obtain financing\, credit scores\, and myths/facts about grants.
X-ALT-DESC;FMTTYPE=text/html:This workshop is designed for individuals who are seeking financing\, to start or grow their small business. Delivered in a workshop format\, this session helps entrepreneurs understand the different sources of funding available\, the requirements to obtain financing\, credit scores\, and myths/facts about grants.
LOCATION:Montcalm Community College Stanley and Blanche Ash Technology and Learning Center 1325 Yellow Jacket Drive Greenville\, MI 48838
UID:e.2018.1103
SEQUENCE:3
DTSTAMP:20260420T075935Z
URL:https://members.westmihcc.org/events/details/sources-of-funding-1103
END:VEVENT

END:VCALENDAR
