BEGIN:VCALENDAR
VERSION:2.0
PRODID:-//ChamberMaster//Event Calendar 2.0//EN
METHOD:PUBLISH
X-PUBLISHED-TTL:P3D
REFRESH-INTERVAL:P3D
CALSCALE:GREGORIAN
BEGIN:VEVENT
DTSTART:20190326T230000Z
DTEND:20190327T020000Z
X-MICROSOFT-CDO-ALLDAYEVENT:FALSE
SUMMARY:Speedo Green: Sing For Your Life
DESCRIPTION:Part Two of The Series: Creative Expressions of African American Cultures\, Speedo Green: Sing For Your Life comes to DeVos Performance Hall on Tuesday\, March 26th\, 2019 at 7:00PM. Join in the conversation between Met Opera singer Ryan "Speedo" Green and author of biography\, Sing For Your Life\, Daniel Bergner. Discussing a story of race\, music and family. A touching and triumphant story of a young black man's journey from violence and despair to one of the world's most elite artistic institutions. Live on DeVos Performance Hall stage Tuesday\, March 26th. Speedo will showcase his natural talent performing a few arias (long song accompanying a solo voice)\, followed by a Q&A session with Speedo Green and Daniel Bergner.
X-ALT-DESC;FMTTYPE=text/html:Part Two of The Series: Creative Expressions of African American Cultures\, Speedo Green: Sing For Your Life comes to DeVos Performance Hall on Tuesday\, March 26th\, 2019 at 7:00PM. Join in the conversation between Met Opera singer Ryan &quot\;Speedo&quot\; Green and author of biography\, Sing For Your Life\, Daniel Bergner. Discussing a story of race\, music and family. A touching and triumphant story of a young black man&#39\;s journey from violence and despair to one of the world&#39\;s most elite artistic institutions. Live on DeVos Performance Hall stage Tuesday\, March 26th. Speedo will showcase his natural talent performing a few arias (long song accompanying a solo voice)\, followed by a Q&amp\;A session with Speedo Green and Daniel Bergner.
LOCATION:DeVos Performance Hall
UID:e.2018.1101
SEQUENCE:3
DTSTAMP:20260420T063308Z
URL:https://members.westmihcc.org/events/details/speedo-green-sing-for-your-life-1101
END:VEVENT

END:VCALENDAR
