BEGIN:VCALENDAR
VERSION:2.0
PRODID:-//ChamberMaster//Event Calendar 2.0//EN
METHOD:PUBLISH
X-PUBLISHED-TTL:P3D
REFRESH-INTERVAL:P3D
CALSCALE:GREGORIAN
BEGIN:VEVENT
DTSTART:20170311T150000Z
DTEND:20170312T210000Z
X-MICROSOFT-CDO-ALLDAYEVENT:FALSE
SUMMARY:Spring Bridal Show of West Michigan - March 11-12\, 2017
DESCRIPTION:Bridal Show of West Michigan March 11-12\, 2017 DeVos Place-Grand Rapids\, MI Hours: Sat. 10-5 and Sun. 11-5 www.kohlerexpo.com Brides\, Grooms\, Moms and Friends come celebrate and plan your special day! Meet wedding professionals face-to-face all under one roof. Save Time and Money with special vendor discounts and show specials. Plus win CASH prizes. Exhibits may include:   Bridal Gown Fashion Display   Bridal Boutiques   Tuxedo Formalwear   Jeweler   Limousine and Party Bus   Culinary and Caterers   Wedding Cakes & Desserts   Floral & Decorations   Ceremony & Reception Venue   Outdoor Wedding Ideas   Tent\, Linen & Wedding Rentals   Bridal Gift Registry   Hotel and Lodging   Luxury Restroom Trailers   Photo Booth   Pre and Post Wedding Events   Photography / Videography   DJ's and Music   Register to Win Prizes   And much more! The Bridal Show is open to the General Public. Tickets are available at the door. Show Hours: Saturday 10am-5pm and Sunday 11am-5pm. For additional information and $1 off coupon\, visit www.kohlerexpo.com
X-ALT-DESC;FMTTYPE=text/html:Bridal Show of West Michigan March 11-12\, 2017 DeVos Place-Grand Rapids\, MI Hours: Sat. 10-5 and Sun. 11-5 www.kohlerexpo.com Brides\, Grooms\, Moms and Friends&hellip\;come celebrate and plan your special day! Meet wedding professionals face-to-face all under one roof. Save Time and Money with special vendor discounts and show specials. Plus win CASH prizes. Exhibits may include: &bull\; Bridal Gown Fashion Display &bull\; Bridal Boutiques &bull\; Tuxedo Formalwear &bull\; Jeweler &bull\; Limousine and Party Bus &bull\; Culinary and Caterers &bull\; Wedding Cakes &amp\; Desserts &bull\; Floral &amp\; Decorations &bull\; Ceremony &amp\; Reception Venue &bull\; Outdoor Wedding Ideas &bull\; Tent\, Linen &amp\; Wedding Rentals &bull\; Bridal Gift Registry &bull\; Hotel and Lodging &bull\; Luxury Restroom Trailers &bull\; Photo Booth &bull\; Pre and Post Wedding Events &bull\; Photography / Videography &bull\; DJ&rsquo\;s and Music &bull\; Register to Win Prizes &bull\; And much more! The Bridal Show is open to the General Public. Tickets are available at the door. Show Hours: Saturday 10am-5pm and Sunday 11am-5pm. For additional information and $1 off coupon\, visit www.kohlerexpo.com
LOCATION:DeVos Place 303 Monroe Ave NW Grand Rapids MI 49503
UID:e.2018.417
SEQUENCE:3
DTSTAMP:20260425T144608Z
URL:https://members.westmihcc.org/events/details/spring-bridal-show-of-west-michigan-march-11-12-2017-03-11-2017-417
END:VEVENT

END:VCALENDAR
