BEGIN:VCALENDAR
VERSION:2.0
PRODID:-//ChamberMaster//Event Calendar 2.0//EN
METHOD:PUBLISH
X-PUBLISHED-TTL:P3D
REFRESH-INTERVAL:P3D
CALSCALE:GREGORIAN
BEGIN:VEVENT
DTSTART:20160610T230000Z
DTEND:20160611T010000Z
X-MICROSOFT-CDO-ALLDAYEVENT:FALSE
SUMMARY:Stars of truTV's Impractical Jokers
DESCRIPTION:Stars of truTV's Impractical Jokers\, The Tenderloins are set to hit DeVos Performance Hall this spring on Friday\, June 10\, 2016 at 7:00 PM. Tickets will be available for $52 beginning Friday\, March 25 at 10:00 AM at the DeVos Place and Van Andel Arena box offices\, all Ticketmaster ticket centers\, online at Ticketmaster.com\, and by phone at 1-800-745-3000. A purchase limit of eight (8) tickets will apply to each order. VIP packages are also available for $152.50 and $252.50. Prices are subject to change. An age restriction of 16 years and older is suggested and parental discretion is advised.
X-ALT-DESC;FMTTYPE=text/html:Stars of truTV&#39\;s Impractical Jokers\, The Tenderloins are set to hit DeVos Performance Hall this spring on Friday\, June 10\, 2016 at 7:00 PM. Tickets will be available for $52 beginning Friday\, March 25 at 10:00 AM at the DeVos Place and Van Andel Arena box offices\, all Ticketmaster ticket centers\, online at Ticketmaster.com\, and by phone at 1-800-745-3000. A purchase limit of eight (8) tickets will apply to each order. VIP packages are also available for $152.50 and $252.50. Prices are subject to change. An age restriction of 16 years and older is suggested and parental discretion is advised.
LOCATION:DeVos Performance Hall
UID:e.2018.364
SEQUENCE:3
DTSTAMP:20260426T035516Z
URL:https://members.westmihcc.org/events/details/stars-of-trutv-s-impractical-jokers-06-10-2016-364
END:VEVENT

END:VCALENDAR
