BEGIN:VCALENDAR
VERSION:2.0
PRODID:-//ChamberMaster//Event Calendar 2.0//EN
METHOD:PUBLISH
X-PUBLISHED-TTL:P3D
REFRESH-INTERVAL:P3D
CALSCALE:GREGORIAN
BEGIN:VEVENT
DTSTART:20180221T230000Z
DTEND:20180222T020000Z
X-MICROSOFT-CDO-ALLDAYEVENT:FALSE
SUMMARY:Start Smart
DESCRIPTION:Prerequisite: Intro to GROW Bring your business ideas and be ready for an engaging\, hands-on class that will equip you to take the next step on your entrepreneurial journey. This workshop uses the Business Canvas Model\, a strategic tool that can be used to develop a new business model or document an existing one. You will learn the who\, what\, why\, when\, and how of the Business Model Canvas\, including its essential building blocks\, its relationship to your formal business plan\, and its effectiveness throughout the life of your business. Leave with the skills and knowledge you need to grow your business.
X-ALT-DESC;FMTTYPE=text/html:Prerequisite: Intro to GROW Bring your business ideas and be ready for an engaging\, hands-on class that will equip you to take the next step on your entrepreneurial journey. This workshop uses the Business Canvas Model\, a strategic tool that can be used to develop a new business model or document an existing one. You will learn the who\, what\, why\, when\, and how of the Business Model Canvas\, including its essential building blocks\, its relationship to your formal business plan\, and its effectiveness throughout the life of your business. Leave with the skills and knowledge you need to grow your business.
LOCATION:
UID:e.2018.787
SEQUENCE:3
DTSTAMP:20260423T001832Z
URL:https://members.westmihcc.org/events/details/start-smart-02-21-2018-787
END:VEVENT

END:VCALENDAR
