BEGIN:VCALENDAR
VERSION:2.0
PRODID:-//ChamberMaster//Event Calendar 2.0//EN
METHOD:PUBLISH
X-PUBLISHED-TTL:P3D
REFRESH-INTERVAL:P3D
CALSCALE:GREGORIAN
BEGIN:VEVENT
DTSTART:20160921T220000Z
DTEND:20160922T010000Z
X-MICROSOFT-CDO-ALLDAYEVENT:FALSE
SUMMARY:Start Smart - September
DESCRIPTION:Start Smart Prerequisite: Intro to GROW Bring your business ideas and be ready for an engaging\, hands-on class that will equip you to take the next step on your entrepreneurial journey. This workshop uses the Business Model Canvas\, a strategic tool that can be used to develop a new business model or document an existing one. You will learn the who\, what\, why\, when\, and how of the Business Model Canvas\, including its essential building blocks\, its relationship to your formal business plan\, and its effectiveness throughout the life of your business. Leave with the skills and knowledge you need to grow your business. Cost: $25 As event seating is limited\, we regret that walk-ins cannot be accommodated. Please register to reserve your seat. Please note that the YWCA building is currently under construction\, and the rear parking lot is unavailable. Metered parking\, and City ramps are available during the day. The spectrum health lot on La Grave Ave is also available for use after 5:00pm.
X-ALT-DESC;FMTTYPE=text/html:Start Smart Prerequisite: Intro to GROW Bring your business ideas and be ready for an engaging\, hands-on class that will equip you to take the next step on your entrepreneurial journey. This workshop uses the Business Model Canvas\, a strategic tool that can be used to develop a new business model or document an existing one. You will learn the who\, what\, why\, when\, and how of the Business Model Canvas\, including its essential building blocks\, its relationship to your formal business plan\, and its effectiveness throughout the life of your business. Leave with the skills and knowledge you need to grow your business. Cost: $25 As event seating is limited\, we regret that walk-ins cannot be accommodated. Please register to reserve your seat. Please note that the YWCA building is currently under construction\, and the rear parking lot is unavailable. Metered parking\, and City ramps are available during the day. The spectrum health lot on La Grave Ave is also available for use after 5:00pm.
LOCATION:Grand Rapids Opportunities for Women
UID:e.2018.473
SEQUENCE:3
DTSTAMP:20260425T224803Z
URL:https://members.westmihcc.org/events/details/start-smart-september-473
END:VEVENT

END:VCALENDAR
