BEGIN:VCALENDAR
VERSION:2.0
PRODID:-//ChamberMaster//Event Calendar 2.0//EN
METHOD:PUBLISH
X-PUBLISHED-TTL:P3D
REFRESH-INTERVAL:P3D
CALSCALE:GREGORIAN
BEGIN:VEVENT
DTSTART:20180117T230000Z
DTEND:20180118T010000Z
X-MICROSOFT-CDO-ALLDAYEVENT:FALSE
SUMMARY:Starting a Business
DESCRIPTION:This course is designed for individuals who are considering self-employment\, or who may be at the beginning stages of starting a business. Start-up costs\, financing options\, and business planning are introduced\, along with necessary steps to getting started.
X-ALT-DESC;FMTTYPE=text/html:This course is designed for individuals who are considering self-employment\, or who may be at the beginning stages of starting a business. Start-up costs\, financing options\, and business planning are introduced\, along with necessary steps to getting started.
LOCATION:Montcalm Community College 1325 Yellow Jacket Dr. Greenville\, MI 48838
UID:e.2018.702
SEQUENCE:3
DTSTAMP:20260423T003828Z
URL:https://members.westmihcc.org/events/details/starting-a-business-01-17-2018-702
END:VEVENT

END:VCALENDAR
