BEGIN:VCALENDAR
VERSION:2.0
PRODID:-//ChamberMaster//Event Calendar 2.0//EN
METHOD:PUBLISH
X-PUBLISHED-TTL:P3D
REFRESH-INTERVAL:P3D
CALSCALE:GREGORIAN
BEGIN:VEVENT
DTSTART:20190313T190000Z
DTEND:20190313T210000Z
X-MICROSOFT-CDO-ALLDAYEVENT:FALSE
SUMMARY:Starting a Business
DESCRIPTION:This course is designed for individuals who are considering self-employment\, or who may be at the beginning stages of starting a business. Delivered in a workshop format\, this introductory session helps aspiring entrepreneurs assess their abilities to lead and manage a company\, as well as evaluate market and sales potential for their products/services. Start-up costs\, financing options\, and business planning are introduced\, along with necessary steps to getting started. No cost. Register at https://clients.sbdcmichigan.org/workshop.aspx?ekey=70390015.
X-ALT-DESC;FMTTYPE=text/html:This course is designed for individuals who are considering self-employment\, or who may be at the beginning stages of starting a business. Delivered in a workshop format\, this introductory session helps aspiring entrepreneurs assess their abilities to lead and manage a company\, as well as evaluate market and sales potential for their products/services. Start-up costs\, financing options\, and business planning are introduced\, along with necessary steps to getting started. No cost. Register at https://clients.sbdcmichigan.org/workshop.aspx?ekey=70390015.
LOCATION:GVSU Seidman Center 50 Front Ave SW Grand Rapids\, MI 49504
UID:e.2018.1141
SEQUENCE:3
DTSTAMP:20260420T062652Z
URL:https://members.westmihcc.org/events/details/starting-a-business-03-13-2019-1141
END:VEVENT

END:VCALENDAR
