BEGIN:VCALENDAR
VERSION:2.0
PRODID:-//ChamberMaster//Event Calendar 2.0//EN
METHOD:PUBLISH
X-PUBLISHED-TTL:P3D
REFRESH-INTERVAL:P3D
CALSCALE:GREGORIAN
BEGIN:VEVENT
DTSTART:20180412T130000Z
DTEND:20180412T150000Z
X-MICROSOFT-CDO-ALLDAYEVENT:FALSE
SUMMARY:Starting a Business
DESCRIPTION:This course is designed for individuals who are considering self-employment\, or who may be at the beginning stages of starting a business. Delivered in a workshop format\, this introductory session helps aspiring entrepreneurs assess their abilities to lead and manage a company\, as well as evaluate market and sales potential for their products/services. Start-up costs\, financing options\, and business planning are introduced\, along with necessary steps to getting started.
X-ALT-DESC;FMTTYPE=text/html:This course is designed for individuals who are considering self-employment\, or who may be at the beginning stages of starting a business. Delivered in a workshop format\, this introductory session helps aspiring entrepreneurs assess their abilities to lead and manage a company\, as well as evaluate market and sales potential for their products/services. Start-up costs\, financing options\, and business planning are introduced\, along with necessary steps to getting started.
LOCATION:GVSU Holland Campus
UID:e.2018.813
SEQUENCE:3
DTSTAMP:20260422T213513Z
URL:https://members.westmihcc.org/events/details/starting-a-business-04-12-2018-813
END:VEVENT

END:VCALENDAR
