BEGIN:VCALENDAR
VERSION:2.0
PRODID:-//ChamberMaster//Event Calendar 2.0//EN
METHOD:PUBLISH
X-PUBLISHED-TTL:P3D
REFRESH-INTERVAL:P3D
CALSCALE:GREGORIAN
BEGIN:VEVENT
DTSTART:20191016T220000Z
DTEND:20191017T000000Z
X-MICROSOFT-CDO-ALLDAYEVENT:FALSE
SUMMARY:Starting a Business
DESCRIPTION:This course is designed for individuals who are considering self-employment\, or who may be at the beginning stages of starting a business. Delivered in a workshop format\, this introductory session helps aspiring entrepreneurs assess their abilities to lead and manage a company\, as well as evaluate market and sales potential for their products/services. Start-up costs\, financing options\, and business planning are introduced\, along with necessary steps to getting started. To register\, click on this link: https://clients.sbdcmichigan.org/workshop.aspx?ekey=70390142. No cost.
X-ALT-DESC;FMTTYPE=text/html:This course is designed for individuals who are considering self-employment\, or who may be at the beginning stages of starting a business. Delivered in a workshop format\, this introductory session helps aspiring entrepreneurs assess their abilities to lead and manage a company\, as well as evaluate market and sales potential for their products/services. Start-up costs\, financing options\, and business planning are introduced\, along with necessary steps to getting started. To register\, click on this link: https://clients.sbdcmichigan.org/workshop.aspx?ekey=70390142. No cost.
LOCATION:Montcalm Community College Stanley and Blanche Ash Technology and Learning Center 1325 Yellow Jacket Drive Greenville\, MI 48838
UID:e.2018.1322
SEQUENCE:3
DTSTAMP:20260419T200835Z
URL:https://members.westmihcc.org/events/details/starting-a-business-10-16-2019-1322
END:VEVENT

END:VCALENDAR
