BEGIN:VCALENDAR
VERSION:2.0
PRODID:-//ChamberMaster//Event Calendar 2.0//EN
METHOD:PUBLISH
X-PUBLISHED-TTL:P3D
REFRESH-INTERVAL:P3D
CALSCALE:GREGORIAN
BEGIN:VEVENT
DTSTART:20161117T200000Z
DTEND:20161117T220000Z
X-MICROSOFT-CDO-ALLDAYEVENT:FALSE
SUMMARY:Starting a Business
DESCRIPTION:This course is designed for individuals who are considering self-employment\, or who may be at the beginning stages of starting a business. Delivered in a workshop format\, this introductory session helps aspiring entrepreneurs assess their abilities to lead and manage a company\, as well as evaluate market and sales potential for their products/services. Start-up costs\, financing options\, and business planning are introduced\, along with necessary steps to getting started. No cost! Presented by SBDC West Michigan and Fifth Third Bank. To register\, go online at https://clients.sbdcmichigan.org/workshop.aspx?ekey=70360017 or call SBDC West Michigan at (616)331-7370.
X-ALT-DESC;FMTTYPE=text/html:This course is designed for individuals who are considering self-employment\, or who may be at the beginning stages of starting a business. Delivered in a workshop format\, this introductory session helps aspiring entrepreneurs assess their abilities to lead and manage a company\, as well as evaluate market and sales potential for their products/services. Start-up costs\, financing options\, and business planning are introduced\, along with necessary steps to getting started. No cost! Presented by SBDC West Michigan and Fifth Third Bank. To register\, go online at https://clients.sbdcmichigan.org/workshop.aspx?ekey=70360017 or call SBDC West Michigan at (616)331-7370.
LOCATION:GVSU L William. Seidman Center Forum 50 Front Ave SW Grand Rapids\, MI 49504
UID:e.2018.446
SEQUENCE:3
DTSTAMP:20260425T200347Z
URL:https://members.westmihcc.org/events/details/starting-a-business-11-17-2016-446
END:VEVENT

END:VCALENDAR
