BEGIN:VCALENDAR
VERSION:2.0
PRODID:-//ChamberMaster//Event Calendar 2.0//EN
METHOD:PUBLISH
X-PUBLISHED-TTL:P3D
REFRESH-INTERVAL:P3D
CALSCALE:GREGORIAN
BEGIN:VEVENT
DTSTART:20180123T230000Z
DTEND:20180124T010000Z
X-MICROSOFT-CDO-ALLDAYEVENT:FALSE
SUMMARY:Starting a Business & Writing a Business Plan
DESCRIPTION:This course is designed for individuals who are considering self-employment\, or who may be at the beginning stages of starting a business. Start-up costs\, financing options\, and business planning are introduced\, along with necessary steps to getting started.
X-ALT-DESC;FMTTYPE=text/html:This course is designed for individuals who are considering self-employment\, or who may be at the beginning stages of starting a business. Start-up costs\, financing options\, and business planning are introduced\, along with necessary steps to getting started.
LOCATION:Muskegon Innovation Hub 200 Viridian Drive Muskegon\, MI 49440
UID:e.2018.697
SEQUENCE:3
DTSTAMP:20260423T003829Z
URL:https://members.westmihcc.org/events/details/starting-a-business-writing-a-business-plan-697
END:VEVENT

END:VCALENDAR
