BEGIN:VCALENDAR
VERSION:2.0
PRODID:-//ChamberMaster//Event Calendar 2.0//EN
METHOD:PUBLISH
X-PUBLISHED-TTL:P3D
REFRESH-INTERVAL:P3D
CALSCALE:GREGORIAN
BEGIN:VEVENT
DTSTART:20171016T233000Z
DTEND:20171017T023000Z
X-MICROSOFT-CDO-ALLDAYEVENT:FALSE
SUMMARY:Steely Dan
DESCRIPTION:The popular American 1970's jazz/rock band Steely Dan\, consisting of core members Donald Fagen and Walter Becker\, make a stop at the Van Andel Arena. Steely Dan is an American jazz rock band whose music also blends elements of crossover jazz\, latin music\, soul\, R&B\, boogie and pop. Steely Dan is known for some of their hits "Do It Again\," "Reelin' In The Years\," "Rikki Don't Lose That Number\," and many more! Tickets are on sale now! Ticket prices are $39.50\, $59.50\, $99.50 and $150. Tickets may be purchased at the Van Andel Arena  and DeVos Place  convention center box offices\, charge by phone: 1.800.745.3000 or on-line at Ticketmaster.com. Ticket prices are subject to change. Purchase limit of 4 tickets per order.
X-ALT-DESC;FMTTYPE=text/html:The popular American 1970&#39\;s jazz/rock band Steely Dan\, consisting of core members Donald Fagen and Walter Becker\, make a stop at the Van Andel Arena. Steely Dan is an American jazz rock band whose music also blends elements of crossover jazz\, latin music\, soul\, R&amp\;B\, boogie and pop. Steely Dan is known for some of their hits &quot\;Do It Again\,&quot\; &quot\;Reelin&#39\; In The Years\,&quot\; &quot\;Rikki Don&#39\;t Lose That Number\,&quot\; and many more! Tickets are on sale now! Ticket prices are $39.50\, $59.50\, $99.50 and $150. Tickets may be purchased at the Van Andel Arena&reg\; and DeVos Place&reg\; convention center box offices\, charge by phone: 1.800.745.3000 or on-line at Ticketmaster.com. Ticket prices are subject to change. Purchase limit of 4 tickets per order.
LOCATION:Van Andel Arena
UID:e.2018.662
SEQUENCE:3
DTSTAMP:20260423T050506Z
URL:https://members.westmihcc.org/events/details/steely-dan-662
END:VEVENT

END:VCALENDAR
