BEGIN:VCALENDAR
VERSION:2.0
PRODID:-//ChamberMaster//Event Calendar 2.0//EN
METHOD:PUBLISH
X-PUBLISHED-TTL:P3D
REFRESH-INTERVAL:P3D
CALSCALE:GREGORIAN
BEGIN:VEVENT
DTSTART:20180922T123000Z
DTEND:20180922T160000Z
X-MICROSOFT-CDO-ALLDAYEVENT:FALSE
SUMMARY:Step Up For Down Syndrome
DESCRIPTION:Step Up For Down Syndrome is Michigan's largest Down syndrome awareness celebration. The event is family-friendly and open to all children and adults with Down syndrome\, their families\, friends\, and thousands of local supporters. As a direct result of event sponsorships\, team fundraising\, and generous public donations\, the Down Syndrome Association of West Michigan is able to continue providing educational resources\, informational programs\, parent support networks\, financial assistance\, and social events for individuals with Down syndrome. The Step Up Walk has three primary goals: To promote acceptance and inclusion of people with Down syndrome. To raise funds to support the Down Syndrome Association of West Michigan. To encourage communities to embrace\, empower and promote opportunities for meaningful lives for individuals with Down syndrome. Visit dsawm.ezeventsolutions.com/stepup to register or donate. We hope to see you there!
X-ALT-DESC;FMTTYPE=text/html:Step Up For Down Syndrome is Michigan&#39\;s largest Down syndrome awareness celebration. The event is family-friendly and open to all children and adults with Down syndrome\, their families\, friends\, and thousands of local supporters. As a direct result of event sponsorships\, team fundraising\, and generous public donations\, the Down Syndrome Association of West Michigan is able to continue providing educational resources\, informational programs\, parent support networks\, financial assistance\, and social events for individuals with Down syndrome. The Step Up Walk has three primary goals: To promote acceptance and inclusion of people with Down syndrome. To raise funds to support the Down Syndrome Association of West Michigan. To encourage communities to embrace\, empower and promote opportunities for meaningful lives for individuals with Down syndrome. Visit dsawm.ezeventsolutions.com/stepup to register or donate. We hope to see you there!
LOCATION:Fifth Third Ballpark 4500 West River Rd. NE Comstock Park\, MI 49321
UID:e.2018.862
SEQUENCE:3
DTSTAMP:20260422T132804Z
URL:https://members.westmihcc.org/events/details/step-up-for-down-syndrome-862
END:VEVENT

END:VCALENDAR
