BEGIN:VCALENDAR
VERSION:2.0
PRODID:-//ChamberMaster//Event Calendar 2.0//EN
METHOD:PUBLISH
X-PUBLISHED-TTL:P3D
REFRESH-INTERVAL:P3D
CALSCALE:GREGORIAN
BEGIN:VEVENT
DTSTART:20180520T233000Z
DTEND:20180521T020000Z
X-MICROSOFT-CDO-ALLDAYEVENT:FALSE
SUMMARY:Steve Martin & Martin Short
DESCRIPTION:Two entertainment legends\, Steve Martin and Martin Short\, bring you An Evening You Will Forget for the Rest of Your Life on Sunday\, May 20th at DeVos Performance Hall. You can join these friends of over thirty years as they give you a glimpse into their history when they take the stage for one night. Featuring musical guests The Steep Canyon Rangers and Jeff Babko. Tickets go on sale on Friday\, December 1st at 12:00PM. Ticket prices are $95\, $175 and $350. Tickets will be available online at Ticketmaster.com\, DeVos Place and Van Andel Arena box office and charge by phone at 800-745-3000. Ticket limit of 8 will apply to every order. Prices are subject to change.
X-ALT-DESC;FMTTYPE=text/html:Two entertainment legends\, Steve Martin and Martin Short\, bring you An Evening You Will Forget for the Rest of Your Life on Sunday\, May 20th at DeVos Performance Hall. You can join these friends of over thirty years as they give you a glimpse into their history when they take the stage for one night. Featuring musical guests The Steep Canyon Rangers and Jeff Babko. Tickets go on sale on Friday\, December 1st at 12:00PM. Ticket prices are $95\, $175 and $350. Tickets will be available online at Ticketmaster.com\, DeVos Place and Van Andel Arena box office and charge by phone at 800-745-3000. Ticket limit of 8 will apply to every order. Prices are subject to change.
LOCATION:DeVos Performance Hall
UID:e.2018.716
SEQUENCE:3
DTSTAMP:20260422T183727Z
URL:https://members.westmihcc.org/events/details/steve-martin-martin-short-716
END:VEVENT

END:VCALENDAR
