BEGIN:VCALENDAR
VERSION:2.0
PRODID:-//ChamberMaster//Event Calendar 2.0//EN
METHOD:PUBLISH
X-PUBLISHED-TTL:P3D
REFRESH-INTERVAL:P3D
CALSCALE:GREGORIAN
BEGIN:VEVENT
DTSTART:20161124T000000Z
DTEND:20161124T030000Z
X-MICROSOFT-CDO-ALLDAYEVENT:FALSE
SUMMARY:Stevie Nicks: 24 Karat Gold Tour with The Pretenders
DESCRIPTION:Stevie Nicks\, a multi-platinum selling artist\, dubbed "the reigning queen of rock and roll" by Rolling Stone Magazine\, has had six Top Ten albums and 8 Grammy nominations. Her 2014 album\, 24 Karat Gold   Songs From The Vault\, debuted at No. 7 on Billboard's Top 200 Charts. As a member of Fleetwood Mac\, Nicks recently performed 122 sold out shows around the world during 2014-2015. Collectively as a solo artist and Fleetwood Mac band member\, Nicks has sold over 140 million albums and won several Grammys. Tickets may be purchased at the Van Andel Arena  and DeVos Place  convention center box offices\, charge by phone: 1.800.745.3000 or on-line at Ticketmaster.com. Ticket prices are subject to change. There is a 4 ticket limit on VIP package orders\, and an 8 ticket limit on all other orders.
X-ALT-DESC;FMTTYPE=text/html:Stevie Nicks\, a multi-platinum selling artist\, dubbed &ldquo\;the reigning queen of rock and roll&rdquo\; by Rolling Stone Magazine\, has had six Top Ten albums and 8 Grammy nominations. Her 2014 album\, 24 Karat Gold &ndash\; Songs From The Vault\, debuted at No. 7 on Billboard&rsquo\;s Top 200 Charts. As a member of Fleetwood Mac\, Nicks recently performed 122 sold out shows around the world during 2014-2015. Collectively as a solo artist and Fleetwood Mac band member\, Nicks has sold over 140 million albums and won several Grammys. Tickets may be purchased at the Van Andel Arena&reg\; and DeVos Place&reg\; convention center box offices\, charge by phone: 1.800.745.3000 or on-line at Ticketmaster.com. Ticket prices are subject to change. There is a 4 ticket limit on VIP package orders\, and an 8 ticket limit on all other orders.
LOCATION:Van Andel Arena
UID:e.2018.479
SEQUENCE:3
DTSTAMP:20260425T201010Z
URL:https://members.westmihcc.org/events/details/stevie-nicks-24-karat-gold-tour-with-the-pretenders-479
END:VEVENT

END:VCALENDAR
