BEGIN:VCALENDAR
VERSION:2.0
PRODID:-//ChamberMaster//Event Calendar 2.0//EN
METHOD:PUBLISH
X-PUBLISHED-TTL:P3D
REFRESH-INTERVAL:P3D
CALSCALE:GREGORIAN
BEGIN:VEVENT
DTSTART:20200204T000000Z
DTEND:20200204T040000Z
X-MICROSOFT-CDO-ALLDAYEVENT:FALSE
SUMMARY:Storm Large
DESCRIPTION:Back by popular demand\, Storm Large delivers American songbook classics\, Broadway tear-jerkers and rock goddess anthems. She may appear to be a six foot tattooed Vargas pin up girl\, but with a voice that goes from a velvety purr to a mighty Valkyrie in a single phrase\, Ms. Large is a vocalist whose iconoclastic talent defies the laws of nature. Please be advised that this performance may contain adult content and explicit language (with humor).
X-ALT-DESC;FMTTYPE=text/html:Back by popular demand\, Storm Large delivers American songbook classics\, Broadway tear-jerkers and rock goddess anthems. She may appear to be a six foot tattooed Vargas pin up girl\, but with a voice that goes from a velvety purr to a mighty Valkyrie in a single phrase\, Ms. Large is a vocalist whose iconoclastic talent defies the laws of nature. Please be advised that this performance may contain adult content and explicit language (with humor).
LOCATION:The CUBE 3711 Woodward Avenue Detroit\, MI 48201
UID:e.2018.1341
SEQUENCE:3
DTSTAMP:20260419T135951Z
URL:https://members.westmihcc.org/events/details/storm-large-1341
END:VEVENT

END:VCALENDAR
