BEGIN:VCALENDAR
VERSION:2.0
PRODID:-//ChamberMaster//Event Calendar 2.0//EN
METHOD:PUBLISH
X-PUBLISHED-TTL:P3D
REFRESH-INTERVAL:P3D
CALSCALE:GREGORIAN
BEGIN:VEVENT
DTSTART:20161126T010000Z
DTEND:20161126T030000Z
X-MICROSOFT-CDO-ALLDAYEVENT:FALSE
SUMMARY:Straight No Chaser "I'll Have Another...World Tour"
DESCRIPTION:Atlantic Records recording group Straight No Chaser has announced early details of the "I'll Have Another World Tour." The North American leg   which celebrates the 20th anniversary of the a cappella group's formation in 1996 and first show at Indiana University   begins October 14th at Reno\, NV's Grand Theatre and then continues to Grand Rapids on Friday\, November 25\, 2016 at 8:00 PM in DeVos Performance Hall. Tickets will be available for $34.50\, $44.50\, $54.50\, and $64.50 at the DeVos Place and Van Andel Arena box offices\, all Ticketmaster ticket centers\, online at Ticketmaster.com\, and by phone at 1-800-745-3000. Ticket prices increase $5.50 on the day of the show. A purchase limit of 12 tickets will apply to every order and prices are subject to change.
X-ALT-DESC;FMTTYPE=text/html:Atlantic Records recording group Straight No Chaser has announced early details of the &ldquo\;I&rsquo\;ll Have Another&hellip\;World Tour.&rdquo\; The North American leg &ndash\; which celebrates the 20th anniversary of the a cappella group&rsquo\;s formation in 1996 and first show at Indiana University &ndash\; begins October 14th at Reno\, NV&rsquo\;s Grand Theatre and then continues to Grand Rapids on Friday\, November 25\, 2016 at 8:00 PM in DeVos Performance Hall. Tickets will be available for $34.50\, $44.50\, $54.50\, and $64.50 at the DeVos Place and Van Andel Arena box offices\, all Ticketmaster ticket centers\, online at Ticketmaster.com\, and by phone at 1-800-745-3000. Ticket prices increase $5.50 on the day of the show. A purchase limit of 12 tickets will apply to every order and prices are subject to change.
LOCATION:DeVos Performance Hall 303 Monroe Ave NW Grand Rapids\, MI 49503
UID:e.2018.405
SEQUENCE:3
DTSTAMP:20260425T200713Z
URL:https://members.westmihcc.org/events/details/straight-no-chaser-i-ll-have-another-world-tour-11-25-2016-405
END:VEVENT

END:VCALENDAR
