BEGIN:VCALENDAR
VERSION:2.0
PRODID:-//ChamberMaster//Event Calendar 2.0//EN
METHOD:PUBLISH
X-PUBLISHED-TTL:P3D
REFRESH-INTERVAL:P3D
CALSCALE:GREGORIAN
BEGIN:VEVENT
DTSTART:20180319T230000Z
DTEND:20180320T020000Z
X-MICROSOFT-CDO-ALLDAYEVENT:FALSE
SUMMARY:Styx & REO Speedwagon
DESCRIPTION:Rock legends\, Styx and REO Speedwagon\, along with very special guest Don Felder - formerly of the Eagles - have joined forces for the "United We Rock" tour coming to Van Andel Arena. Tickets go on sale Friday\, December 8\, 2017 at 12 PM. Tickets may be purchased at the Van Andel Arena and DeVos Place convention center box offices\, charge by phone: 1.800.745.3000 or on-line at Ticketmaster.com. Ticket prices are subject to change.
X-ALT-DESC;FMTTYPE=text/html:Rock legends\, Styx and REO Speedwagon\, along with very special guest Don Felder - formerly of the Eagles - have joined forces for the &quot\;United We Rock&quot\; tour coming to Van Andel Arena. Tickets go on sale Friday\, December 8\, 2017 at 12 PM. Tickets may be purchased at the Van Andel Arena and DeVos Place convention center box offices\, charge by phone: 1.800.745.3000 or on-line at Ticketmaster.com. Ticket prices are subject to change.
LOCATION:Van Andel Arena
UID:e.2018.720
SEQUENCE:3
DTSTAMP:20260422T230643Z
URL:https://members.westmihcc.org/events/details/styx-reo-speedwagon-720
END:VEVENT

END:VCALENDAR
