BEGIN:VCALENDAR
VERSION:2.0
PRODID:-//ChamberMaster//Event Calendar 2.0//EN
METHOD:PUBLISH
X-PUBLISHED-TTL:P3D
REFRESH-INTERVAL:P3D
CALSCALE:GREGORIAN
BEGIN:VEVENT
DTSTART:20190825T010000Z
DTEND:20190825T040000Z
X-MICROSOFT-CDO-ALLDAYEVENT:FALSE
SUMMARY:Swing Dance Party
DESCRIPTION:Dust off those dancing shoes and come decked out in your best vintage attire for the ultimate swing dance party at The Cube in Midtown Detroit. Arrive early for a dance lesson and your favorite classic cocktail and stay for the open dance floor and live music. Cocktails & Live DJ   8 PM Dance Lesson   8:15 PM Live Music & Open Dance Floor   9 PM-11 AM TICKETS: $10   General Admission Advance $15   General Admission Door [NO VIP EXPERIENCE TICKETS FOR THIS SHOW]
X-ALT-DESC;FMTTYPE=text/html:Dust off those dancing shoes and come decked out in your best vintage attire for the ultimate swing dance party at The Cube in Midtown Detroit. Arrive early for a dance lesson and your favorite classic cocktail and stay for the open dance floor and live music. Cocktails &amp\; Live DJ &ndash\; 8 PM Dance Lesson &ndash\; 8:15 PM Live Music &amp\; Open Dance Floor &ndash\; 9 PM-11 AM TICKETS: $10 &ndash\; General Admission Advance $15 &ndash\; General Admission Door [NO VIP EXPERIENCE TICKETS FOR THIS SHOW]
LOCATION:Max M. & Marjorie S. Fisher Music Center \, The Cube
UID:e.2018.1270
SEQUENCE:3
DTSTAMP:20260419T225429Z
URL:https://members.westmihcc.org/events/details/swing-dance-party-1270
END:VEVENT

END:VCALENDAR
