BEGIN:VCALENDAR
VERSION:2.0
PRODID:-//ChamberMaster//Event Calendar 2.0//EN
METHOD:PUBLISH
X-PUBLISHED-TTL:P3D
REFRESH-INTERVAL:P3D
CALSCALE:GREGORIAN
BEGIN:VEVENT
DTSTART:20160929T220000Z
DTEND:20160930T020000Z
X-MICROSOFT-CDO-ALLDAYEVENT:FALSE
SUMMARY:Switchfoot & Relient K: Looking For America
DESCRIPTION:Switchfoot and Relient K return to the DeltaPlex Arena for what will be a fantastic concert experience!
X-ALT-DESC;FMTTYPE=text/html:Switchfoot and Relient K return to the DeltaPlex Arena for what will be a fantastic concert experience!
LOCATION:The DeltaPlex Arena
UID:e.2018.390
SEQUENCE:3
DTSTAMP:20260425T225735Z
URL:https://members.westmihcc.org/events/details/switchfoot-relient-k-looking-for-america-09-29-2016-390
END:VEVENT

END:VCALENDAR
