BEGIN:VCALENDAR
VERSION:2.0
PRODID:-//ChamberMaster//Event Calendar 2.0//EN
METHOD:PUBLISH
X-PUBLISHED-TTL:P3D
REFRESH-INTERVAL:P3D
CALSCALE:GREGORIAN
BEGIN:VEVENT
DTSTART:20191123T153000Z
DTEND:20191123T170000Z
X-MICROSOFT-CDO-ALLDAYEVENT:FALSE
SUMMARY:Tai Chi + Live Music
DESCRIPTION:DSO bassoonist/contrabassoonist and certified instructor Marcus Schoon leads a group Yang family Tai Chi class with live music by Xiao Dong Wei. Open to all skill levels. *The DSO does not appear on this program.
X-ALT-DESC;FMTTYPE=text/html:DSO bassoonist/contrabassoonist and certified instructor Marcus Schoon leads a group Yang family Tai Chi class with live music by Xiao Dong Wei. Open to all skill levels. *The DSO does not appear on this program.
LOCATION:The CUBE 3711 Woodward Avenue Detroit\, MI 48201
UID:e.2018.1386
SEQUENCE:3
DTSTAMP:20260419T182657Z
URL:https://members.westmihcc.org/events/details/tai-chi-live-music-1386
END:VEVENT

END:VCALENDAR
