BEGIN:VCALENDAR
VERSION:2.0
PRODID:-//ChamberMaster//Event Calendar 2.0//EN
METHOD:PUBLISH
X-PUBLISHED-TTL:P3D
REFRESH-INTERVAL:P3D
CALSCALE:GREGORIAN
BEGIN:VEVENT
DTSTART:20191030T150000Z
DTEND:20191030T170000Z
X-MICROSOFT-CDO-ALLDAYEVENT:FALSE
SUMMARY:Take Your Business Global: Access to Capital for Export Financing Training
DESCRIPTION:SBA provides a number of loan programs to help trade and export activities. Join us for a talk with subject matter experts from the SBA on the various programs and assistance the SBA is able to provide small businesses looking to enter into the export market. Topics include working capital programs and international trade loan programs. To register\, click on this link: https://clients.sbdcmichigan.org/workshop.aspx?ekey=70390179. No cost.
X-ALT-DESC;FMTTYPE=text/html:SBA provides a number of loan programs to help trade and export activities. Join us for a talk with subject matter experts from the SBA on the various programs and assistance the SBA is able to provide small businesses looking to enter into the export market. Topics include working capital programs and international trade loan programs. To register\, click on this link: https://clients.sbdcmichigan.org/workshop.aspx?ekey=70390179. No cost.
LOCATION:Montcalm Community College Stanley and Blanche Ash Technology and Learning Center 1325 Yellow Jacket Drive Greenville\, MI 48838
UID:e.2018.1320
SEQUENCE:3
DTSTAMP:20260419T201230Z
URL:https://members.westmihcc.org/events/details/take-your-business-global-access-to-capital-for-export-financing-training-1320
END:VEVENT

END:VCALENDAR
