BEGIN:VCALENDAR
VERSION:2.0
PRODID:-//ChamberMaster//Event Calendar 2.0//EN
METHOD:PUBLISH
X-PUBLISHED-TTL:P3D
REFRESH-INTERVAL:P3D
CALSCALE:GREGORIAN
BEGIN:VEVENT
DTSTART:20180222T140000Z
DTEND:20180222T153000Z
X-MICROSOFT-CDO-ALLDAYEVENT:FALSE
SUMMARY:Talleres Empresariales (Business Workshops)
DESCRIPTION:The WMHCC presents our monthly Talleres Empesariales. These business workshops help local Hispanic business owners and entrepreneurs learn more about business necessities. Local leaders give a presentation on the monthly topic and breakfast is served as well. This workshop will be about "Standard Operating Procedures." Reminder: these workshops are in Spanish.\n\n\n\nEl WMHCC presenta nuestros Talleres Empesariales. Estos talleres ayudan los propietarios y empresarios locales hispanos a conocer m s sobre las necesidades del negocio. Los l deres locales hacen una presentaci n sobre el tema mensual y se sirve el desayuno tambi n. Este taller ser  sobre "Procedimientos Operativos Est ndar". Recordatorio: estos talleres est n en espa ol.
X-ALT-DESC;FMTTYPE=text/html:The WMHCC presents our monthly Talleres Empesariales. These business workshops help local Hispanic business owners and entrepreneurs learn more about business necessit<span style="font-family:tahoma\;">ies. Local leaders give a presentation on the monthly topic and breakfast is served as well. This&nbsp\;workshop will be about &quot\;<span style="font-size: 14.6667px\; background-color: rgb(255\, 255\, 255)\;">Standard Operating Procedures</span>.&quot\; Reminder: these workshops are in Spanish.<br />\n<br />\nEl WMHCC presenta nuestros Talleres Empesariales. Estos talleres&nbsp\;ayudan&nbsp\;los propietarios y empresarios locales hispanos a conocer m&aacute\;s sobre las necesidades del negocio. Los l&iacute\;deres locales hacen una presentaci&oacute\;n sobre el tema mensual y se sirve el desayuno tambi&eacute\;n. Este&nbsp\;taller ser&aacute\; sobre &quot\;Procedimientos Operativos Est&aacute\;ndar&quot\;. Recordatorio: estos talleres est&aacute\;n en espa&ntilde\;ol.</span>
LOCATION:Lindo Mexico Restaurant 1742 28th St SW\, Wyoming\, MI 49519
UID:e.2018.760
SEQUENCE:3
DTSTAMP:20260422T231012Z
URL:https://members.westmihcc.org/events/details/talleres-empresariales-business-workshops-760
END:VEVENT

END:VCALENDAR
