BEGIN:VCALENDAR
VERSION:2.0
PRODID:-//ChamberMaster//Event Calendar 2.0//EN
METHOD:PUBLISH
X-PUBLISHED-TTL:P3D
REFRESH-INTERVAL:P3D
CALSCALE:GREGORIAN
BEGIN:VEVENT
DTSTART:20180426T130000Z
DTEND:20180426T143000Z
X-MICROSOFT-CDO-ALLDAYEVENT:FALSE
SUMMARY:Talleres Empresariales (Business Workshops)
DESCRIPTION:The WMHCC presents our monthly Talleres Empresariales. These business workshops help local Hispanic business owners and entrepreneurs learn more about business necessities. The topic this month is "Understanding of Your Financials\," presented by Stingray Advisory Group.\n\nReminder: these workshops are in Spanish.\n\n\n\nEl WMHCC presenta nuestros Talleres Empresariales. Estos talleres ayudan los propietarios y empresarios locales hispanos a conocer m s sobre las necesidades del negocio. El tema de este mes es "Comprensi n de sus Finanzas"\, presentado por Stingray Advisory Group.\n\nRecordatorio: estos talleres est n en espa ol.
X-ALT-DESC;FMTTYPE=text/html:<span style="font-family:arial\;">The WMHCC presents our monthly Talleres Empresariales. These business workshops help local Hispanic business owners and entrepreneurs learn more about business necessities. The topic this month is &quot\;Understanding of Your Financials\,&quot\; presented by Stingray Advisory Group.</span><br />\n<strong>Reminder: these workshops are in Spanish.</strong><br />\n<br />\nEl WMHCC presenta nuestros Talleres Empresariales. Estos talleres&nbsp\;ayudan&nbsp\;los propietarios y empresarios locales hispanos a conocer m&aacute\;s sobre las necesidades del negocio. El tema de este mes es &quot\;Comprensi&oacute\;n de sus Finanzas&quot\;\, presentado por Stingray Advisory Group.<br />\n<strong>Recordatorio: estos talleres est&aacute\;n en espa&ntilde\;ol.</strong>
LOCATION:Lindo Mexico Restaurant 1742 28th St SW\, Wyoming\, MI 49519
UID:e.2018.773
SEQUENCE:3
DTSTAMP:20260422T213946Z
URL:https://members.westmihcc.org/events/details/talleres-empresariales-business-workshops-773
END:VEVENT

END:VCALENDAR
