BEGIN:VCALENDAR
VERSION:2.0
PRODID:-//ChamberMaster//Event Calendar 2.0//EN
METHOD:PUBLISH
X-PUBLISHED-TTL:P3D
REFRESH-INTERVAL:P3D
CALSCALE:GREGORIAN
BEGIN:VEVENT
DTSTART:20180524T130000Z
DTEND:20180524T143000Z
X-MICROSOFT-CDO-ALLDAYEVENT:FALSE
SUMMARY:Talleres Empresariales (Business Workshops)
DESCRIPTION:The WMHCC presents our monthly Talleres Empresariales. These business workshops help local Hispanic business owners and entrepreneurs learn more about business necessities. Local leaders give a presentation on the monthly topic and breakfast is served as well. This month's topic is presented by DEKSIA\, and is all about Building Your Brand! Reminder: these workshops are in Spanish.\n\n\n\nEl WMHCC presenta nuestros Talleres Empresariales. Estos talleres ayudan los propietarios y empresarios locales hispanos a conocer m s sobre las necesidades del negocio. Los l deres locales hacen una presentaci n sobre el tema mensual y se sirve el desayuno tambi n. El tema de este mes es presentado por DEKSIA\, y trata acerca "Construyendo de tu Marca." Recordatorio: estos talleres est n en espa ol.
X-ALT-DESC;FMTTYPE=text/html:The WMHCC presents our monthly Talleres Empresariales. These business workshops help local Hispanic business owners and entrepreneurs learn more about business necessities. Local leaders give a presentation on the monthly topic and breakfast is served as well. This month&#39\;s topic is presented by DEKSIA\, and is all about Building Your Brand! Reminder: these workshops are in Spanish.<br />\n<br />\nEl WMHCC presenta nuestros Talleres Empresariales. Estos talleres&nbsp\;ayudan&nbsp\;los propietarios y empresarios locales hispanos a conocer m&aacute\;s sobre las necesidades del negocio. Los l&iacute\;deres locales hacen una presentaci&oacute\;n sobre el tema mensual y se sirve el desayuno tambi&eacute\;n.&nbsp\;El tema de este mes es presentado por DEKSIA\, y trata acerca&nbsp\;&quot\;Construyendo de tu Marca.&quot\;&nbsp\;Recordatorio: estos talleres est&aacute\;n en espa&ntilde\;ol.
LOCATION:Lindo Mexico Restaurant 1742 28th St SW\, Wyoming\, MI 49519
UID:e.2018.774
SEQUENCE:3
DTSTAMP:20260422T184136Z
URL:https://members.westmihcc.org/events/details/talleres-empresariales-business-workshops-774
END:VEVENT

END:VCALENDAR
