BEGIN:VCALENDAR
VERSION:2.0
PRODID:-//ChamberMaster//Event Calendar 2.0//EN
METHOD:PUBLISH
X-PUBLISHED-TTL:P3D
REFRESH-INTERVAL:P3D
CALSCALE:GREGORIAN
BEGIN:VEVENT
DTSTART:20180627T130000Z
DTEND:20180627T143000Z
X-MICROSOFT-CDO-ALLDAYEVENT:FALSE
SUMMARY:Talleres Empresariales (Business Workshops)
DESCRIPTION:The WMHCC presents our monthly Talleres Empresariales. These business workshops help local Hispanic business owners and entrepreneurs learn more about business necessities. Local leaders give a presentation on the monthly topic and breakfast is served as well. State Farm will be presenting on "How and Why to Protect Your Business from the Unexpected." Reminder: these workshops are in Spanish.\n\n\n\nEl WMHCC presenta nuestros Talleres Empresariales. Estos talleres ayudan los propietarios y empresarios locales hispanos a conocer m s sobre las necesidades del negocio. Los l deres locales hacen una presentaci n sobre el tema mensual y se sirve el desayuno tambi n. State Farm presentar  "C mo y porqu  es necesario proteger tu negocio de lo inesperado." Recordatorio: estos talleres est n en espa ol.
X-ALT-DESC;FMTTYPE=text/html:The WMHCC presents our monthly Talleres Empresariales. These business workshops help local Hispanic business owners and entrepreneurs learn more about business necessities. Local leaders give a presentation on the monthly topic and breakfast is served as well. <strong>State Farm will be presenting on &quot\;How and Why to Protect Your Business from the Unexpected.&quot\;</strong> Reminder: these workshops are in Spanish.<br />\n<br />\nEl WMHCC presenta nuestros Talleres Empresariales. Estos talleres&nbsp\;ayudan&nbsp\;los propietarios y empresarios locales hispanos a conocer m&aacute\;s sobre las necesidades del negocio. Los l&iacute\;deres locales hacen una presentaci&oacute\;n sobre el tema mensual y se sirve el desayuno tambi&eacute\;n. <strong>State Farm&nbsp\;presentar&aacute\;&nbsp\;&quot\;<span style="color: rgb(34\, 34\, 34)\; background-color: rgb(255\, 255\, 255)\;">C&oacute\;mo y porqu&eacute\; es necesario proteger tu negocio de lo inesperado.&quot\;</span></strong>&nbsp\;Recordatorio: estos talleres est&aacute\;n en espa&ntilde\;ol.
LOCATION:Lindo Mexico Restaurant 1742 28th St SW\, Wyoming\, MI 49519
UID:e.2018.775
SEQUENCE:3
DTSTAMP:20260422T172111Z
URL:https://members.westmihcc.org/events/details/talleres-empresariales-business-workshops-775
END:VEVENT

END:VCALENDAR
