BEGIN:VCALENDAR
VERSION:2.0
PRODID:-//ChamberMaster//Event Calendar 2.0//EN
METHOD:PUBLISH
X-PUBLISHED-TTL:P3D
REFRESH-INTERVAL:P3D
CALSCALE:GREGORIAN
BEGIN:VEVENT
DTSTART:20180726T130000Z
DTEND:20180726T143000Z
X-MICROSOFT-CDO-ALLDAYEVENT:FALSE
SUMMARY:Talleres Empresariales (Business Workshops)
DESCRIPTION:The WMHCC presents our monthly Talleres Empresariales. These business workshops help local Hispanic business owners and entrepreneurs learn more about business necessities. Local leaders give a presentation on the monthly topic and breakfast is served as well. Reminder: these workshops are in Spanish.\n\n\n\nJuly 26th\n\nPreparing Yourself For Lending\n\n\n\nIt's often said to apply for credit before you need it - but why? And how can you prepare yourself and your business to be bankable? This workshop will help participants learn about the factors that impact business lending\, the role that your personal credit plays and options for non-traditional financing.\n\n\n\nFacilitator Information: Leandra Nisbet is an entrepreneur with over 14 years of experience in leadership and sales & marketing. Prior to launching her businesses\, she worked in the financial services industry for over 8 years in various roles. In addition to two other ventures\, Leandra owns Stingray Advisory Group - a GRBJ Top Women-Owned Business\, focusing on helping companies with their financial organization\, marketing and strategic planning needs.\n\n\n\nArianna Hovey has been in the banking industry for the past 8 years. In her current role with Consumers Credit Union\, she provides financial education for 500+ employers. She is bi-lingual and enjoys helping the Hispanic community to bridge the gap between the financial world.\n\n\n\n\n\nEl WMHCC presenta nuestros Talleres Empresariales. Estos talleres ayudan los propietarios y empresarios locales hispanos a conocer m s sobre las necesidades del negocio. Los l deres locales hacen una presentaci n sobre el tema mensual y se sirve el desayuno tambi n. Recordatorio: estos talleres est n en espa ol.
X-ALT-DESC;FMTTYPE=text/html:The WMHCC presents our monthly Talleres Empresariales. These business workshops help local Hispanic business owners and entrepreneurs learn more about business necessities. Local leaders give a presentation on the monthly topic and breakfast is served as well. Reminder: these workshops are in Spanish.<br />\n<br />\n<strong><u>July 26th</u></strong><br />\nPreparing Yourself For Lending<br />\n<br />\nIt&#39\;s often said to apply for credit before you need it - but why? And how can you prepare yourself and your business to be bankable? This workshop will help participants learn about the factors that impact business lending\, the role that your personal credit plays and options for non-traditional financing.<br />\n<br />\nFacilitator Information: Leandra Nisbet is an entrepreneur with over 14 years of experience in leadership and sales &amp\; marketing. Prior to launching her businesses\, she worked in the financial services industry for over 8 years in various roles. In addition to two other ventures\, Leandra owns Stingray Advisory Group - a GRBJ Top Women-Owned Business\, focusing on helping companies with their financial organization\, marketing and strategic planning needs.<br />\n<br />\nArianna Hovey has been in the banking industry for the past 8 years. In her current role with Consumers Credit Union\, she provides financial education for 500+ employers. She is bi-lingual and enjoys helping the Hispanic community to bridge the gap between the financial world.<br />\n<br />\n<br />\nEl WMHCC presenta nuestros Talleres Empresariales. Estos talleres&nbsp\;ayudan&nbsp\;los propietarios y empresarios locales hispanos a conocer m&aacute\;s sobre las necesidades del negocio. Los l&iacute\;deres locales hacen una presentaci&oacute\;n sobre el tema mensual y se sirve el desayuno tambi&eacute\;n. Recordatorio: estos talleres est&aacute\;n en espa&ntilde\;ol.
LOCATION:West Michigan Hispanic Chamber of Commerce 2007 Division Ave. S.\, Grand Rapids\, MI 49507
UID:e.2018.776
SEQUENCE:3
DTSTAMP:20260422T160221Z
URL:https://members.westmihcc.org/events/details/talleres-empresariales-business-workshops-776
END:VEVENT

END:VCALENDAR
