BEGIN:VCALENDAR
VERSION:2.0
PRODID:-//ChamberMaster//Event Calendar 2.0//EN
METHOD:PUBLISH
X-PUBLISHED-TTL:P3D
REFRESH-INTERVAL:P3D
CALSCALE:GREGORIAN
BEGIN:VEVENT
DTSTART:20181025T130000Z
DTEND:20181025T143000Z
X-MICROSOFT-CDO-ALLDAYEVENT:FALSE
SUMMARY:Talleres Empresariales (Business Workshops)
DESCRIPTION:The WMHCC presents our monthly Talleres Empresariales. These business workshops help local Hispanic business owners and entrepreneurs learn more about business necessities. Local leaders give a presentation on the monthly topic and breakfast is served as well. This month\, Luciano Hernandez of Tiger Studio presents "How to Start New Ideas." Reminder: these workshops are in Spanish.\n\n\n\nEl WMHCC presenta nuestros Talleres Empresariales. Estos talleres ayudan los propietarios y empresarios locales hispanos a conocer m s sobre las necesidades del negocio. Los l deres locales hacen una presentaci n sobre el tema mensual y se sirve el desayuno tambi n. Este mes\, Luciano Hernandez de Tiger Studio presentar "C mo Emprender Nuevas Ideas." Recordatorio: estos talleres est n en espa ol.
X-ALT-DESC;FMTTYPE=text/html:The WMHCC presents our monthly Talleres Empresariales. These business workshops help local Hispanic business owners and entrepreneurs learn more about business necessities. Local leaders give a presentation on the monthly topic and breakfast is served as well. This month\, Luciano Hernandez of Tiger Studio presents &quot\;How to Start New Ideas.&quot\; Reminder: these workshops are in Spanish.<br />\n<br />\nEl WMHCC presenta nuestros Talleres Empresariales. Estos talleres&nbsp\;ayudan&nbsp\;los propietarios y empresarios locales hispanos a conocer m&aacute\;s sobre las necesidades del negocio. Los l&iacute\;deres locales hacen una presentaci&oacute\;n sobre el tema mensual y se sirve el desayuno tambi&eacute\;n. Este mes\, Luciano Hernandez de Tiger Studio presentar &quot\;C&oacute\;mo Emprender Nuevas Ideas.&quot\; Recordatorio: estos talleres est&aacute\;n en espa&ntilde\;ol.
LOCATION:West Michigan Hispanic Chamber of Commerce 2007 Division Ave. S.\, Grand Rapids\, MI 49507 Conference Room
UID:e.2018.779
SEQUENCE:3
DTSTAMP:20260422T122651Z
URL:https://members.westmihcc.org/events/details/talleres-empresariales-business-workshops-779
END:VEVENT

END:VCALENDAR
