BEGIN:VCALENDAR
VERSION:2.0
PRODID:-//ChamberMaster//Event Calendar 2.0//EN
METHOD:PUBLISH
X-PUBLISHED-TTL:P3D
REFRESH-INTERVAL:P3D
CALSCALE:GREGORIAN
BEGIN:VEVENT
DTSTART:20190124T140000Z
DTEND:20190124T153000Z
X-MICROSOFT-CDO-ALLDAYEVENT:FALSE
SUMMARY:Talleres Empresariales (Business Workshops in Spanish)
DESCRIPTION:The WMHCC presents our monthly Talleres Empresariales. These business workshops help local Hispanic business owners and entrepreneurs learn more about business necessities. Local leaders give a presentation on the monthly topic and breakfast is served as well. This month's topic is "Credit For Your Business\," presented by Choice One Bank. Reminder: these workshops are in Spanish.\n\n\n\nEl WMHCC presenta nuestros Talleres Empresariales. Estos talleres ayudan los propietarios y empresarios locales hispanos a conocer m s sobre las necesidades del negocio. Los l deres locales hacen una presentaci n sobre el tema mensual y se sirve el desayuno tambi n. El tema de este mes es "Cr dito Para su Negocio\," presentado por Choice One Bank. Para recordarles: estos talleres est n en espa ol.
X-ALT-DESC;FMTTYPE=text/html:The WMHCC presents our monthly Talleres Empresariales. These business workshops help local Hispanic business owners and entrepreneurs learn more about business necessities. Local leaders give a presentation on the monthly topic and breakfast is served as well. <strong>This month&#39\;s topic is &quot\;Credit For Your Business\,&quot\; presented by Choice One Bank.</strong> Reminder: these workshops are in Spanish.<br />\n<br />\nEl WMHCC presenta nuestros Talleres Empresariales. Estos talleres&nbsp\;ayudan&nbsp\;los propietarios y empresarios locales hispanos a conocer m&aacute\;s sobre las necesidades del negocio. Los l&iacute\;deres locales hacen una presentaci&oacute\;n sobre el tema mensual y se sirve el desayuno tambi&eacute\;n.&nbsp\;<strong>El tema de este mes es &quot\;Cr&eacute\;dito Para su Negocio\,&quot\; presentado por Choice One Bank.</strong> Para recordarles: estos talleres est&aacute\;n en espa&ntilde\;ol.
LOCATION:West Michigan Hispanic Chamber of Commerce 2007 Division Ave. S.\, Grand Rapids\, MI 49507
UID:e.2018.1052
SEQUENCE:3
DTSTAMP:20260422T082518Z
URL:https://members.westmihcc.org/events/details/talleres-empresariales-business-workshops-in-spanish-1052
END:VEVENT

END:VCALENDAR
