BEGIN:VCALENDAR
VERSION:2.0
PRODID:-//ChamberMaster//Event Calendar 2.0//EN
METHOD:PUBLISH
X-PUBLISHED-TTL:P3D
REFRESH-INTERVAL:P3D
CALSCALE:GREGORIAN
BEGIN:VEVENT
DTSTART:20190228T140000Z
DTEND:20190228T153000Z
X-MICROSOFT-CDO-ALLDAYEVENT:FALSE
SUMMARY:Talleres Empresariales (Business Workshops in Spanish)
DESCRIPTION:The WMHCC presents our monthly Talleres Empresariales. These business workshops help local Hispanic business owners and entrepreneurs learn more about business necessities. Local leaders give a presentation on the monthly topic and breakfast is served as well. This month's topic is "How to Make More Money\," presented by Sam DeLeon\, CPA. Reminder: these workshops are in Spanish.\n\n\n\nEl WMHCC presenta nuestros Talleres Empresariales. Estos talleres ayudan los propietarios y empresarios locales hispanos a conocer m s sobre las necesidades del negocio. Los l deres locales hacen una presentaci n sobre el tema mensual y se sirve el desayuno tambi n. El tema de este mes es "Como aumentar sus ganancias\," presentado por Sam DeLeon\, CPA. Para recordarles: estos talleres est n en espa ol.\n\n\n\nSam De Leon is an Enrolled Agent who works at Geenen and Kolean\, P.C.\, a CPA firm in downtown Holland. He graduated with honors from Davenport University in 2012 and has been working at Geenen and Kolean since then. Income taxes\, financial statements\, and general bookkeeping are his specialties for both businesses and individuals. In his spare time\, Sam enjoys spending time with his wife and two yorkies. His hobbies and pastime also include volunteer work\, sports\, and playing musical instruments.\n\n \n\nSam De Leon es un Enrolled Agent que trabaja para una empresa de contadores p blicos en el centro de Holland titulada Geenen and Kolean\, P.C. El se gradu  de Davenport University en el 2012 y desde entonces a estado en Geenen and Kolean. Impuestos\, estados financieros\, y contabilidad general son sus especialidades tanto para negocios como individuos. En su pasatiempo\, Samuel disfruta el compa erismo de su esposa y dos perritos. Tambi n disfruta pasando tiempo como voluntario\, deportes\, y tocando instrumentos.
X-ALT-DESC;FMTTYPE=text/html:The WMHCC presents our monthly Talleres Empresariales. These business workshops help local Hispanic business owners and entrepreneurs learn more about business necessities. Local leaders give a presentation on the monthly topic and breakfast is served as well. <strong>This month&#39\;s topic is &quot\;How to Make More Money\,&quot\; presented by Sam DeLeon\, CPA.</strong> Reminder: these workshops are in Spanish.<br />\n<br />\nEl WMHCC presenta nuestros Talleres Empresariales. Estos talleres&nbsp\;ayudan&nbsp\;los propietarios y empresarios locales hispanos a conocer m&aacute\;s sobre las necesidades del negocio. Los l&iacute\;deres locales hacen una presentaci&oacute\;n sobre el tema mensual y se sirve el desayuno tambi&eacute\;n.&nbsp\;<strong>El tema de este mes es &quot\;<span style="color: rgb(34\, 34\, 34)\; font-family: Arial\, Helvetica\, sans-serif\; font-size: small\;">Como aumentar sus ganancias</span>\,&quot\; presentado por Sam DeLeon\, CPA.</strong> Para recordarles: estos talleres est&aacute\;n en espa&ntilde\;ol.<br />\n<br />\nSam De Leon is an Enrolled Agent who works at Geenen and Kolean\, P.C.\, a CPA firm in downtown Holland. He graduated with honors from Davenport University in 2012 and has been working at Geenen and Kolean since then. Income taxes\, financial statements\, and general bookkeeping are his specialties for both businesses and individuals. In his spare time\, Sam enjoys spending time with his wife and two yorkies. His hobbies and pastime also include volunteer work\, sports\, and playing musical instruments.<br />\n&nbsp\;<br />\nSam De Leon es un Enrolled Agent que trabaja para una empresa de contadores p&uacute\;blicos en el centro de Holland titulada Geenen and Kolean\, P.C. El se gradu&oacute\; de Davenport University en el 2012 y desde entonces a estado en Geenen and Kolean. Impuestos\, estados financieros\, y contabilidad general son sus especialidades tanto para negocios como individuos. En su pasatiempo\, Samuel disfruta el compa&ntilde\;erismo de su esposa y dos perritos. Tambi&eacute\;n disfruta pasando tiempo como voluntario\, deportes\, y tocando instrumentos.<br />\n&nbsp\;
LOCATION:West Michigan Hispanic Chamber of Commerce 2007 Division Ave. S.\, Grand Rapids\, MI 49507
UID:e.2018.1053
SEQUENCE:3
DTSTAMP:20260420T080350Z
URL:https://members.westmihcc.org/events/details/talleres-empresariales-business-workshops-in-spanish-1053
END:VEVENT

END:VCALENDAR
