BEGIN:VCALENDAR
VERSION:2.0
PRODID:-//ChamberMaster//Event Calendar 2.0//EN
METHOD:PUBLISH
X-PUBLISHED-TTL:P3D
REFRESH-INTERVAL:P3D
CALSCALE:GREGORIAN
BEGIN:VEVENT
DTSTART:20190425T130000Z
DTEND:20190425T143000Z
X-MICROSOFT-CDO-ALLDAYEVENT:FALSE
SUMMARY:Talleres Empresariales (Business Workshops in Spanish)
DESCRIPTION:El WMHCC presenta nuestros Talleres Empresariales. Estos talleres ayudan los propietarios y empresarios locales hispanos a conocer m s sobre las necesidades del negocio. Los l deres locales hacen una presentaci n sobre el tema mensual y se sirve el desayuno tambi n. El tema de este mes es "Opciones Legales de Negocios para Inmigrantes\," presentado por Lee Marvin de Marvin Law Offce. Para recordarles: estos talleres est n en espa ol.\n\n\n\n \n\n\n\nRegistrar: https://hccwm.chambermaster.com/eventregistration/register/1055\n\n\n\n \n\n\n\n__________________________________\n\n\n\n \n\n\n\nThe WMHCC presents our monthly Talleres Empresariales. These business workshops help local Hispanic business owners and entrepreneurs learn more about business necessities. Local leaders give a presentation on the monthly topic and breakfast is served as well. This month's topic is "Best Practices for Immigrant Business Owners or Employees\," presented by Marvin Law Office. Reminder: these workshops are in Spanish.\n\n\n\n \n\n\n\nRegister:\n\n\n\nhttps://hccwm.chambermaster.com/eventregistration/register/1055
X-ALT-DESC;FMTTYPE=text/html:<div data-block="true" data-editor="88a9s" data-offset-key="3bqip-0-0" style="font-family: system-ui\, -apple-system\, system-ui\, &quot\;.SFNSText-Regular&quot\;\, sans-serif\; color: rgb(29\, 33\, 41)\; font-size: 12px\; white-space: pre-wrap\;">\n<div class="_1mf _1mj" data-offset-key="3bqip-0-0" style="position: relative\; direction: ltr\; font-family: inherit\;"><span data-offset-key="3bqip-0-0" style="font-family: inherit\;">El WMHCC presenta nuestros Talleres Empresariales. Estos talleres ayudan los propietarios y empresarios locales hispanos a conocer m&aacute\;s sobre las necesidades del negocio. Los l&iacute\;deres locales hacen una presentaci&oacute\;n sobre el tema mensual y se sirve el desayuno tambi&eacute\;n. El tema de este mes es &quot\;Opciones Legales de Negocios para Inmigrantes\,&quot\; presentado por Lee Marvin de Marvin Law Offce. Para recordarles: estos talleres est&aacute\;n en espa&ntilde\;ol.</span></div>\n</div>\n\n<div data-block="true" data-editor="88a9s" data-offset-key="bm25f-0-0" style="font-family: system-ui\, -apple-system\, system-ui\, &quot\;.SFNSText-Regular&quot\;\, sans-serif\; color: rgb(29\, 33\, 41)\; font-size: 12px\; white-space: pre-wrap\;">\n<div class="_1mf _1mj" data-offset-key="bm25f-0-0" style="position: relative\; direction: ltr\; font-family: inherit\;">&nbsp\;</div>\n</div>\n\n<div data-block="true" data-editor="88a9s" data-offset-key="eg57-0-0" style="font-family: system-ui\, -apple-system\, system-ui\, &quot\;.SFNSText-Regular&quot\;\, sans-serif\; color: rgb(29\, 33\, 41)\; font-size: 12px\; white-space: pre-wrap\;">\n<div class="_1mf _1mj" data-offset-key="eg57-0-0" style="position: relative\; direction: ltr\; font-family: inherit\;"><span data-offset-key="eg57-0-0" style="font-family: inherit\;">Registrar: https://hccwm.chambermaster.com/eventregistration/register/1055</span></div>\n</div>\n\n<div data-block="true" data-editor="88a9s" data-offset-key="7m29d-0-0" style="font-family: system-ui\, -apple-system\, system-ui\, &quot\;.SFNSText-Regular&quot\;\, sans-serif\; color: rgb(29\, 33\, 41)\; font-size: 12px\; white-space: pre-wrap\;">\n<div class="_1mf _1mj" data-offset-key="7m29d-0-0" style="position: relative\; direction: ltr\; font-family: inherit\;">&nbsp\;</div>\n</div>\n\n<div data-block="true" data-editor="88a9s" data-offset-key="c9ral-0-0" style="font-family: system-ui\, -apple-system\, system-ui\, &quot\;.SFNSText-Regular&quot\;\, sans-serif\; color: rgb(29\, 33\, 41)\; font-size: 12px\; white-space: pre-wrap\;">\n<div class="_1mf _1mj" data-offset-key="c9ral-0-0" style="position: relative\; direction: ltr\; font-family: inherit\;"><span data-offset-key="c9ral-0-0" style="font-family: inherit\;">__________________________________</span></div>\n</div>\n\n<div data-block="true" data-editor="88a9s" data-offset-key="dsn2o-0-0" style="font-family: system-ui\, -apple-system\, system-ui\, &quot\;.SFNSText-Regular&quot\;\, sans-serif\; color: rgb(29\, 33\, 41)\; font-size: 12px\; white-space: pre-wrap\;">\n<div class="_1mf _1mj" data-offset-key="dsn2o-0-0" style="position: relative\; direction: ltr\; font-family: inherit\;">&nbsp\;</div>\n</div>\n\n<div data-block="true" data-editor="88a9s" data-offset-key="4imt2-0-0" style="font-family: system-ui\, -apple-system\, system-ui\, &quot\;.SFNSText-Regular&quot\;\, sans-serif\; color: rgb(29\, 33\, 41)\; font-size: 12px\; white-space: pre-wrap\;">\n<div class="_1mf _1mj" data-offset-key="4imt2-0-0" style="position: relative\; direction: ltr\; font-family: inherit\;"><span data-offset-key="4imt2-0-0" style="font-family: inherit\;">The WMHCC presents our monthly Talleres Empresariales. These business workshops help local Hispanic business owners and entrepreneurs learn more about business necessities. Local leaders give a presentation on the monthly topic and breakfast is served as well. This month&#39\;s topic is &quot\;Best Practices for Immigrant Business Owners or Employees\,&quot\; presented by Marvin Law Office. Reminder: these workshops are in Spanish.</span></div>\n</div>\n\n<div data-block="true" data-editor="88a9s" data-offset-key="20bh5-0-0" style="font-family: system-ui\, -apple-system\, system-ui\, &quot\;.SFNSText-Regular&quot\;\, sans-serif\; color: rgb(29\, 33\, 41)\; font-size: 12px\; white-space: pre-wrap\;">\n<div class="_1mf _1mj" data-offset-key="20bh5-0-0" style="position: relative\; direction: ltr\; font-family: inherit\;">&nbsp\;</div>\n</div>\n\n<div data-block="true" data-editor="88a9s" data-offset-key="9gs2v-0-0" style="font-family: system-ui\, -apple-system\, system-ui\, &quot\;.SFNSText-Regular&quot\;\, sans-serif\; color: rgb(29\, 33\, 41)\; font-size: 12px\; white-space: pre-wrap\;">\n<div class="_1mf _1mj" data-offset-key="9gs2v-0-0" style="position: relative\; direction: ltr\; font-family: inherit\;"><span data-offset-key="9gs2v-0-0" style="font-family: inherit\;">Register:</span></div>\n</div>\n\n<div data-block="true" data-editor="88a9s" data-offset-key="aucjk-0-0" style="font-family: system-ui\, -apple-system\, system-ui\, &quot\;.SFNSText-Regular&quot\;\, sans-serif\; color: rgb(29\, 33\, 41)\; font-size: 12px\; white-space: pre-wrap\;">\n<div class="_1mf _1mj" data-offset-key="aucjk-0-0" style="position: relative\; direction: ltr\; font-family: inherit\;"><span data-offset-key="aucjk-0-0" style="font-family: inherit\;">https://hccwm.chambermaster.com/eventregistration/register/1055</span></div>\n</div>\n
LOCATION:West Michigan Hispanic Chamber of Commerce 2007 Division Ave. S.\, Grand Rapids\, MI 49507
UID:e.2018.1055
SEQUENCE:3
DTSTAMP:20260420T050553Z
URL:https://members.westmihcc.org/events/details/talleres-empresariales-business-workshops-in-spanish-1055
END:VEVENT

END:VCALENDAR
