BEGIN:VCALENDAR
VERSION:2.0
PRODID:-//ChamberMaster//Event Calendar 2.0//EN
METHOD:PUBLISH
X-PUBLISHED-TTL:P3D
REFRESH-INTERVAL:P3D
CALSCALE:GREGORIAN
BEGIN:VEVENT
DTSTART:20170718T203000Z
DTEND:20170718T220000Z
X-MICROSOFT-CDO-ALLDAYEVENT:FALSE
SUMMARY:Targeted Business Committee Meeting
DESCRIPTION:Chamber members come join us and learn about the (PTAC) Procurement Technical Assistance Center\, where you will have the opportunity learn different ways of how to receive it. \n\n\n\nYou will also get information about tools that can benefit your business such as: \n\n\n\nCertifications to accelerate business growth: \n\nVeteran\, WOSB\, HUBZone\, 8a\, MDB/DBE\n\n\n\nStrategies to leverage business capabilities:\n\n Teaming\, joint venture\, mentor prot g \n\nTo learn more go to http://www.muskegonareafirst.org/ptac
X-ALT-DESC;FMTTYPE=text/html:<span style="font-size:12px\;"><span style="font-family:verdana\;"><span style="language:en-US\;font-weight:bold\;"><span style="color:#486113\;">Chamber members come join us and learn about the </span><span style="color:black\;">(PTAC) </span></span><span style="language:en-US\;font-weight:bold\;"><span style="color:black\;">Procurement Technical Assistance Center</span></span><span style="language:en-US\;font-weight:bold\;"><span style="color:#486113\;">\, where you will have the opportunity learn different ways of how to receive it. </span></span><br />\n<br />\n<span style="color:#3F7819\;">You will also get information about tools that can benefit your business such as: </span><br />\n<br />\n<span style="language:en-US\;font-style:italic\;"><span style="color:#3F7819\;">Certifications to accelerate business growth: </span></span><br />\n<u><span style="language:en-US\;font-weight:bold\;font-style:italic\;"><span style="color:#486113\;">Veteran\, WOSB\, </span></span></u><u><span style="language:en-US\;font-weight:bold\;font-style:italic\;"><span style="color:#486113\;">HUBZone</span></span></u><u><span style="language:en-US\;font-weight:bold\;font-style:italic\;"><span style="color:#486113\;">\, 8a\, MDB/DBE</span></span></u><br />\n<br />\n<span style="language:en-US\;font-style:italic\;"><span style="color:#3F7819\;">Strategies to leverage business capabilities:</span></span></span></span><br />\n<u><span style="language:en-US\;font-weight:bold\;font-style:italic\;"><span style="color:#486113\;"><span style="font-family:trebuchet ms\;"><span style="font-size:18.0pt\;"><span style="font-size:12px\;"><span style="font-family:verdana\;">&nbsp\;Teaming\, joint venture\, mentor prot&eacute\;g&eacute\;<br />\nTo learn more go to http://www.muskegonareafirst.org/ptac</span></span></span></span></span></span></u>
LOCATION:West Michigan Hispanic Chamber of Commerce 1167 Madison Ave SE Grand Rapids\, MI 49507
UID:e.2018.627
SEQUENCE:3
DTSTAMP:20260423T093450Z
URL:https://members.westmihcc.org/events/details/targeted-business-committee-meeting-627
END:VEVENT

END:VCALENDAR
