BEGIN:VCALENDAR
VERSION:2.0
PRODID:-//ChamberMaster//Event Calendar 2.0//EN
METHOD:PUBLISH
X-PUBLISHED-TTL:P3D
REFRESH-INTERVAL:P3D
CALSCALE:GREGORIAN
BEGIN:VEVENT
DTSTART:20181025T130000Z
DTEND:20181025T160000Z
X-MICROSOFT-CDO-ALLDAYEVENT:FALSE
SUMMARY:Team SBA Financing Rountable
DESCRIPTION:Are you a new or existing small business owner who will be seeking bank financing in the near future? Get the inside scoop from the SBA and Level One Bank on what criteria they are looking for from you! Have your questions answered directly by a team of experts. This course is designed for new and existing small business owners and lending professionals who are interested in learning about lending in today's market. Topics include: How loan applications are analyzed\, what bankers require for approval\, and how banking regulations affect decisions. Presented by SBDC\, SBA\, and Level One Bank
X-ALT-DESC;FMTTYPE=text/html:Are you a new or existing small business owner who will be seeking bank financing in the near future? Get the inside scoop from the SBA and Level One Bank on what criteria they are looking for from you! Have your questions answered directly by a team of experts. This course is designed for new and existing small business owners and lending professionals who are interested in learning about lending in today&#39\;s market. Topics include: How loan applications are analyzed\, what bankers require for approval\, and how banking regulations affect decisions. Presented by SBDC\, SBA\, and Level One Bank
LOCATION:Level One Bank 2355 Burton St ST Grand Rapids\, MI 49506
UID:e.2018.837
SEQUENCE:3
DTSTAMP:20260422T122201Z
URL:https://members.westmihcc.org/events/details/team-sba-financing-rountable-837
END:VEVENT

END:VCALENDAR
