BEGIN:VCALENDAR
VERSION:2.0
PRODID:-//ChamberMaster//Event Calendar 2.0//EN
METHOD:PUBLISH
X-PUBLISHED-TTL:P3D
REFRESH-INTERVAL:P3D
CALSCALE:GREGORIAN
BEGIN:VEVENT
DTSTART:20191207T010000Z
DTEND:20191207T040000Z
X-MICROSOFT-CDO-ALLDAYEVENT:FALSE
SUMMARY:The Duke Ellington Orchestra
DESCRIPTION:Relive the swinging days of the Paradise. Duke Ellington and his Orchestra headlined a week-long engagement just four weeks after the official opening of the Paradise Theatre\, ushering in a decade of performances by legends like Billie Holiday\, Nat King Cole\, Ella Fitzgerald\, and countless others! The Duke Ellington Orchestra   the only ensemble directly carrying on the tradition from Duke himself   returns to the Orchestra Hall stage to perform celebrated classics!
X-ALT-DESC;FMTTYPE=text/html:Relive the swinging days of the Paradise. Duke Ellington and his Orchestra headlined a week-long engagement just four weeks after the official opening of the Paradise Theatre\, ushering in a decade of performances by legends like Billie Holiday\, Nat King Cole\, Ella Fitzgerald\, and countless others! The Duke Ellington Orchestra &ndash\; the only ensemble directly carrying on the tradition from Duke himself &ndash\; returns to the Orchestra Hall stage to perform celebrated classics!
LOCATION:Detroit Symphony Orchestra 3711 Woodward Avenue Detroit\, MI 48201
UID:e.2018.1356
SEQUENCE:3
DTSTAMP:20260419T165912Z
URL:https://members.westmihcc.org/events/details/the-duke-ellington-orchestra-1356
END:VEVENT

END:VCALENDAR
