BEGIN:VCALENDAR
VERSION:2.0
PRODID:-//ChamberMaster//Event Calendar 2.0//EN
METHOD:PUBLISH
X-PUBLISHED-TTL:P3D
REFRESH-INTERVAL:P3D
CALSCALE:GREGORIAN
BEGIN:VEVENT
DTSTART:20190218T010000Z
DTEND:20190218T040000Z
X-MICROSOFT-CDO-ALLDAYEVENT:FALSE
SUMMARY:The John Mellencamp Show
DESCRIPTION:John Mellencamp embarks on a 2019 tour\, "The John Mellencamp Show" set to coincide with studio album release. The John Mellencamp Show will feature rock icon's classics plus some new material. Hailed by critics and fans alike as one of music's most authentic and crowd pleasing concert performers\, Mellencamp will begin th tour February 7th in his home state of Indiana and will span two months including a stop at DeVos Performance Hall on Sunday\, February 17th at 8:00PM.
X-ALT-DESC;FMTTYPE=text/html:John Mellencamp embarks on a 2019 tour\, &quot\;The John Mellencamp Show&quot\; set to coincide with studio album release. The John Mellencamp Show will feature rock icon&#39\;s classics plus some new material. Hailed by critics and fans alike as one of music&#39\;s most authentic and crowd pleasing concert performers\, Mellencamp will begin th tour February 7th in his home state of Indiana and will span two months including a stop at DeVos Performance Hall on Sunday\, February 17th at 8:00PM.
LOCATION:Devos Performance Hall
UID:e.2018.962
SEQUENCE:3
DTSTAMP:20260420T080026Z
URL:https://members.westmihcc.org/events/details/the-john-mellencamp-show-962
END:VEVENT

END:VCALENDAR
