BEGIN:VCALENDAR
VERSION:2.0
PRODID:-//ChamberMaster//Event Calendar 2.0//EN
METHOD:PUBLISH
X-PUBLISHED-TTL:P3D
REFRESH-INTERVAL:P3D
CALSCALE:GREGORIAN
BEGIN:VEVENT
DTSTART:20171230T230000Z
DTEND:20171231T012500Z
X-MICROSOFT-CDO-ALLDAYEVENT:FALSE
SUMMARY:The Most Wonderful Crime of the Year
DESCRIPTION:The Experts in Mystery Entertainment are now performing live public and private interactive murder mystery dinner shows in areas throughout the United States. Join us for a night of intrigue\, deception\, and delicious food in this comedic thriller!
X-ALT-DESC;FMTTYPE=text/html:The Experts in Mystery Entertainment are now performing live public and private interactive murder mystery dinner shows in areas throughout the United States. Join us for a night of intrigue\, deception\, and delicious food in this comedic thriller!
LOCATION:Pietro's 2780 Birchcrest Dr SE\, Grand Rapids\, MI 49506
UID:e.2018.713
SEQUENCE:3
DTSTAMP:20260423T035518Z
URL:https://members.westmihcc.org/events/details/the-most-wonderful-crime-of-the-year-713
END:VEVENT

END:VCALENDAR
