BEGIN:VCALENDAR
VERSION:2.0
PRODID:-//ChamberMaster//Event Calendar 2.0//EN
METHOD:PUBLISH
X-PUBLISHED-TTL:P3D
REFRESH-INTERVAL:P3D
CALSCALE:GREGORIAN
BEGIN:VEVENT
DTSTART:20190507T230000Z
DTEND:20190508T030000Z
X-MICROSOFT-CDO-ALLDAYEVENT:FALSE
SUMMARY:The Who
DESCRIPTION:For WHO fans everywhere\, the announcement of a brand new tour means only one thing: the world's most untamable rock band is about to deliver the goods once again. Never ones for nostalgia\, singer Roger Daltrey and guitarist and songwriter Pete Townshend will be unleashing the combustible force that is The Who\, with symphonic accompaniment this summer and fall in 2019. Produced by Live Nation\, The Who's North American MOVING ON! TOUR will bring their indelible brand of powerhouse rock to 29 cities beginning in May. The kickoff date is Tuesday\, May 7 at 7:30 PM at Van Andel Arena in Grand Rapids\, MI with the band wrapping up the first leg of the tour June 1 in Toronto\, ON. A much-anticipated series of fall dates will launch on September 6 in St. Paul\, MN and conclude on October 23 in Edmonton\, AB. Tickets go on sale to the general public beginning Friday\, January 18 at 10:00 AM. Tickets will be available at the Van Andel Arena and DeVos Place  box offices\, online at Ticketmaster.com\, and charge by phone at 1-800-745-3000. See Ticketmaster.com for all pricing and availability. The Who will also be releasing their first album of new songs in thirteen years later this year. On stage\, the line-up will be rounded out by familiar Who players featuring guitarist/backup singer Simon Townshend\, keyboardist Loren Gold\, bassist Jon Button and drummer Zak Starkey\, and complemented by some of the best orchestras in the U.S. and Canada. The Who's fan club presale starts Wednesday\, January 16 at 10:00 AM local time and runs through Thursday\, January 17 at 10:00 PM local time. The venue presale will run Thursday\, January 17\, from 10:00 AM to 10:00 PM. Every pair of tickets purchased online includes a redeemable code for a CD copy of The Who's forthcoming album when it's released. This offer is available to US and Canada customers only and not valid for tickets purchased via resale. In addition\, $1 from each ticket sold for the MOVING ON! TOUR will benefit Teen Cancer America.
X-ALT-DESC;FMTTYPE=text/html:For WHO fans everywhere\, the announcement of a brand new tour means only one thing: the world&rsquo\;s most untamable rock band is about to deliver the goods once again. Never ones for nostalgia\, singer Roger Daltrey and guitarist and songwriter Pete Townshend will be unleashing the combustible force that is The Who\, with symphonic accompaniment this summer and fall in 2019. Produced by Live Nation\, The Who&rsquo\;s North American MOVING ON! TOUR will bring their indelible brand of powerhouse rock to 29 cities beginning in May. The kickoff date is Tuesday\, May 7 at 7:30 PM at Van Andel Arena in Grand Rapids\, MI with the band wrapping up the first leg of the tour June 1 in Toronto\, ON. A much-anticipated series of fall dates will launch on September 6 in St. Paul\, MN and conclude on October 23 in Edmonton\, AB. Tickets go on sale to the general public beginning Friday\, January 18 at 10:00 AM. Tickets will be available at the Van Andel Arena and DeVos Place&reg\; box offices\, online at Ticketmaster.com\, and charge by phone at 1-800-745-3000. See Ticketmaster.com for all pricing and availability. The Who will also be releasing their first album of new songs in thirteen years later this year. On stage\, the line-up will be rounded out by familiar Who players featuring guitarist/backup singer Simon Townshend\, keyboardist Loren Gold\, bassist Jon Button and drummer Zak Starkey\, and complemented by some of the best orchestras in the U.S. and Canada. The Who&rsquo\;s fan club presale starts Wednesday\, January 16 at 10:00 AM local time and runs through Thursday\, January 17 at 10:00 PM local time. The venue presale will run Thursday\, January 17\, from 10:00 AM to 10:00 PM. Every pair of tickets purchased online includes a redeemable code for a CD copy of The Who&rsquo\;s forthcoming album when it&rsquo\;s released. This offer is available to US and Canada customers only and not valid for tickets purchased via resale. In addition\, $1 from each ticket sold for the MOVING ON! TOUR will benefit Teen Cancer America.
LOCATION:Van Andel Arena
UID:e.2018.1105
SEQUENCE:3
DTSTAMP:20260420T032620Z
URL:https://members.westmihcc.org/events/details/the-who-1105
END:VEVENT

END:VCALENDAR
