BEGIN:VCALENDAR
VERSION:2.0
PRODID:-//ChamberMaster//Event Calendar 2.0//EN
METHOD:PUBLISH
X-PUBLISHED-TTL:P3D
REFRESH-INTERVAL:P3D
CALSCALE:GREGORIAN
BEGIN:VEVENT
DTSTART:20180622T233000Z
DTEND:20180623T023000Z
X-MICROSOFT-CDO-ALLDAYEVENT:FALSE
SUMMARY:Third Day
DESCRIPTION:Four-time GRAMMY Award-winning and multi-platinum selling band Third Day will hit the road one last time this summer to headline their Farewell Tour\, which concludes an extraordinary touring career that spans 25 years and boasts legions of loyal fans from around the world. The tour\, produced by Awakening Events and sponsored by Food for the Hungry kicks off May 31. The Farewell Tour will feature a full slate from the band's 31 number 1 radio singles\, as well as new material from Mac Powell and the Family Reunion\, new music from Mark Lee featuring stories from his book Hurt Road\, and special guest artist appearances in all markets.
X-ALT-DESC;FMTTYPE=text/html:Four-time GRAMMY Award-winning and multi-platinum selling band Third Day will hit the road one last time this summer to headline their Farewell Tour\, which concludes an extraordinary touring career that spans 25 years and boasts legions of loyal fans from around the world. The tour\, produced by Awakening Events and sponsored by Food for the Hungry kicks off May 31. The Farewell Tour will feature a full slate from the band&#39\;s 31 number 1 radio singles\, as well as new material from Mac Powell and the Family Reunion\, new music from Mark Lee featuring stories from his book Hurt Road\, and special guest artist appearances in all markets.
LOCATION:DeVos Performance Hall
UID:e.2018.797
SEQUENCE:3
DTSTAMP:20260422T171649Z
URL:https://members.westmihcc.org/events/details/third-day-797
END:VEVENT

END:VCALENDAR
