BEGIN:VCALENDAR
VERSION:2.0
PRODID:-//ChamberMaster//Event Calendar 2.0//EN
METHOD:PUBLISH
X-PUBLISHED-TTL:P3D
REFRESH-INTERVAL:P3D
CALSCALE:GREGORIAN
BEGIN:VEVENT
DTSTART:20190310T170000Z
DTEND:20190310T190000Z
X-MICROSOFT-CDO-ALLDAYEVENT:FALSE
SUMMARY:Tiempo de Broma Para Ninos- LaughFest
DESCRIPTION:Join us in partnering with LaughFest to bring a bilingual event to the Hispanic community! "Tiempo de Broma Para Ninos" is FREE/GRATIS\, and FAMILY FRIENDLY!\n\n\n\nWith live music\, the audience will be encouraged to join on stage to tell their favorite joke\, in English or Spanish!
X-ALT-DESC;FMTTYPE=text/html:Join us in partnering with LaughFest to bring a bilingual event to the Hispanic community! &quot\;Tiempo de Broma Para Ninos&quot\; is FREE/GRATIS\, and FAMILY FRIENDLY!<br />\n<br />\nWith live music\, the audience will be encouraged to join on stage to tell their favorite joke\, in English or Spanish!
LOCATION:Cook Library Center 1100 Grandville Ave SW\, Grand Rapids\, MI 49503\, USA
UID:e.2018.1140
SEQUENCE:3
DTSTAMP:20260420T064213Z
URL:https://members.westmihcc.org/events/details/tiempo-de-broma-para-ninos-laughfest-1140
END:VEVENT

END:VCALENDAR
