BEGIN:VCALENDAR
VERSION:2.0
PRODID:-//ChamberMaster//Event Calendar 2.0//EN
METHOD:PUBLISH
X-PUBLISHED-TTL:P3D
REFRESH-INTERVAL:P3D
CALSCALE:GREGORIAN
BEGIN:VEVENT
DTSTART:20180607T233000Z
DTEND:20180608T023000Z
X-MICROSOFT-CDO-ALLDAYEVENT:FALSE
SUMMARY:Tim McGraw and Faith Hill Soul 2 Soul World Tour
DESCRIPTION:After 80 sold out shows across the country\, Tim McGraw and Faith Hill to bring Soul2Soul World Tour back to Van Andel Arena on Thursday\, June 7\, 2018 at 7:30PM. Following an 80 date North American run of sold out shows\, Grammy Award winning superstars Tim McGraw & Faith Hill are showing no signs of stopping as their critically-acclaimed Soul2Soul The World Tour extends into 2018 with 25+ additional dates announced. Tickets go on sale Friday\, November 17 at 10:00AM. Tickets will be available at Ticketmaster.com\, the Van Andel Arena and DeVos Place box office and charge by phone at 1-800-745-3000. A ticket limit of 8 will apply to every order. Ticket prices are subject to change. Orders placed online through Ticketmaster will receive a free physical copy of McGraw & Hill's first-ever album together The Rest of Our Life. Several VIP packages are available online at Ticketmaster.com.
X-ALT-DESC;FMTTYPE=text/html:After 80 sold out shows across the country\, Tim McGraw and Faith Hill to bring Soul2Soul World Tour back to Van Andel Arena on Thursday\, June 7\, 2018 at 7:30PM. Following an 80 date North American run of sold out shows\, Grammy Award winning superstars Tim McGraw &amp\; Faith Hill are showing no signs of stopping as their critically-acclaimed Soul2Soul The World Tour extends into 2018 with 25+ additional dates announced. Tickets go on sale Friday\, November 17 at 10:00AM. Tickets will be available at Ticketmaster.com\, the Van Andel Arena and DeVos Place box office and charge by phone at 1-800-745-3000. A ticket limit of 8 will apply to every order. Ticket prices are subject to change. Orders placed online through Ticketmaster will receive a free physical copy of McGraw &amp\; Hill&#39\;s first-ever album together The Rest of Our Life. Several VIP packages are available online at Ticketmaster.com.
LOCATION:Van Andel Arena
UID:e.2018.712
SEQUENCE:3
DTSTAMP:20260422T172351Z
URL:https://members.westmihcc.org/events/details/tim-mcgraw-and-faith-hill-soul-2-soul-world-tour-712
END:VEVENT

END:VCALENDAR
