BEGIN:VCALENDAR
VERSION:2.0
PRODID:-//ChamberMaster//Event Calendar 2.0//EN
METHOD:PUBLISH
X-PUBLISHED-TTL:P3D
REFRESH-INTERVAL:P3D
CALSCALE:GREGORIAN
BEGIN:VEVENT
DTSTART:20260903T233000Z
DTEND:20260904T020000Z
X-MICROSOFT-CDO-ALLDAYEVENT:FALSE
SUMMARY:TLC and Salt-N-Pepa
DESCRIPTION:TLC and Salt-N-Pepa bring It's Iconic The Tour to Acrisure Amphitheater on September 3\, 2026 at 7:30PM. With special guest En Vogue. Tickets on sale Thursday\, March 26 at 10:00AM. *Please note the box office will not be open for this on sale. Ticket prices are subject to change. For current ticket prices visit Ticketmaster.com. Ticket prices may vary\, as market pricing applies to all tickets. Prices may fluctuate based on supply and demand. Tickets may be purchased at the box office or on-line at Ticketmaster.com. A ticket limit of 8 will apply to every order.
X-ALT-DESC;FMTTYPE=text/html:TLC and Salt-N-Pepa bring It&#39\;s Iconic The Tour to Acrisure Amphitheater on September 3\, 2026 at 7:30PM. With special guest En Vogue. Tickets on sale Thursday\, March 26 at 10:00AM. *Please note the box office will not be open for this on sale. Ticket prices are subject to change. For current ticket prices visit Ticketmaster.com. Ticket prices may vary\, as market pricing applies to all tickets. Prices may fluctuate based on supply and demand. Tickets may be purchased at the box office or on-line at Ticketmaster.com. A ticket limit of 8 will apply to every order.
LOCATION:Acrisure Amphitheater
UID:e.2018.4057
SEQUENCE:3
DTSTAMP:20260419T150644Z
URL:https://members.westmihcc.org/events/details/tlc-and-salt-n-pepa-4057
END:VEVENT

END:VCALENDAR
