BEGIN:VCALENDAR
VERSION:2.0
PRODID:-//ChamberMaster//Event Calendar 2.0//EN
METHOD:PUBLISH
X-PUBLISHED-TTL:P3D
REFRESH-INTERVAL:P3D
CALSCALE:GREGORIAN
BEGIN:VEVENT
DTSTART:20190310T230000Z
DTEND:20190311T020000Z
X-MICROSOFT-CDO-ALLDAYEVENT:FALSE
SUMMARY:TobyMac: Hits Deep Tour
DESCRIPTION:TobyMac's popular "HITS DEEP Tour" will trek 34 stops nationwide in 2019 with Jeremy Camp\, Jordan Feliz\, Ryan Stevenson\, We are Messengers and Aaron Cole. The 7x GRAMMY  winner's headlining jaunt is a partnership with K-LOVE\, Air1\, Awakening Events and Food for the Hungry. Among the stops is SMG-managed Van Andel Arena on Sunday\, March 10\, 2019 at 7:00 PM. Tickets go on sale Friday\, September 28\, 2018 @ 10 AM.
X-ALT-DESC;FMTTYPE=text/html:TobyMac&rsquo\;s popular &ldquo\;HITS DEEP Tour&rdquo\; will trek 34 stops nationwide in 2019 with Jeremy Camp\, Jordan Feliz\, Ryan Stevenson\, We are Messengers and Aaron Cole. The 7x GRAMMY&reg\; winner&rsquo\;s headlining jaunt is a partnership with K-LOVE\, Air1\, Awakening Events and Food for the Hungry. Among the stops is SMG-managed Van Andel Arena on Sunday\, March 10\, 2019 at 7:00 PM. Tickets go on sale Friday\, September 28\, 2018 @ 10 AM.
LOCATION:Van Andel Arena
UID:e.2018.969
SEQUENCE:3
DTSTAMP:20260420T075452Z
URL:https://members.westmihcc.org/events/details/tobymac-hits-deep-tour-03-10-2019-969
END:VEVENT

END:VCALENDAR
