BEGIN:VCALENDAR
VERSION:2.0
PRODID:-//ChamberMaster//Event Calendar 2.0//EN
METHOD:PUBLISH
X-PUBLISHED-TTL:P3D
REFRESH-INTERVAL:P3D
CALSCALE:GREGORIAN
BEGIN:VEVENT
DTSTART:20180305T000000Z
DTEND:20180305T030000Z
X-MICROSOFT-CDO-ALLDAYEVENT:FALSE
SUMMARY:TobyMac: Hits Deep Tour
DESCRIPTION:Food for the Hungry presents the TobyMac Hits Deep Tour! TobyMac is back with another star-studded lineup for this year's Hits Deep Tour! Joining Toby will be Mandisa\, Danny Gokey\, Ryan Stevenson and Finding Favour. More information can be found on-line at awakeningevents.com. Tickets go on sale Friday\, September 29\, 2017 at 10 AM. Tickets may be purchased at the Van Andel Arena  and DeVos Place  convention center box offices\, charge by phone: 1.800.745.3000 or on-line at Ticketmaster.com. Ticket prices are subject to change.
X-ALT-DESC;FMTTYPE=text/html:Food for the Hungry presents the TobyMac Hits Deep Tour! TobyMac is back with another star-studded lineup for this year&#39\;s Hits Deep Tour! Joining Toby will be Mandisa\, Danny Gokey\, Ryan Stevenson and Finding Favour. More information can be found on-line at awakeningevents.com. Tickets go on sale Friday\, September 29\, 2017 at 10 AM. Tickets may be purchased at the Van Andel Arena&reg\; and DeVos Place&reg\; convention center box offices\, charge by phone: 1.800.745.3000 or on-line at Ticketmaster.com. Ticket prices are subject to change.
LOCATION:Van Andel Arena
UID:e.2018.676
SEQUENCE:3
DTSTAMP:20260422T230642Z
URL:https://members.westmihcc.org/events/details/tobymac-hits-deep-tour-676
END:VEVENT

END:VCALENDAR
